BEGIN:VCALENDAR
PRODID:-//PUBBLE//agenda//NL
VERSION:2.0
METHOD:PUBLISH
BEGIN:VEVENT
DTSTART:20260423T180000Z
DTEND:20260423T200000Z
DTSTAMP:20260423T032132Z
UID:67c1de72-23a3-4fa4-a9d0-10587d405358
CREATED:20260423T032132Z
NAME:Bijbel Open Avond hetkontakt.nl
X-WR-CALNAME:Bijbel Open Avond
X-ALT-DESC;FMTTYPE=text/html:<a href='/altena/agenda/2026/4/23/bijbel-open-avond-460928'>/altena/agenda/2026/4/23/bijbel-open-avond-460928</a> || <p>Br. Wim van der Wiel zal de derde brief van Johannes samen met de aanwezigen doornemen.</p>
DESCRIPTION:<a href='/altena/agenda/2026/4/23/bijbel-open-avond-460928'>/altena/agenda/2026/4/23/bijbel-open-avond-460928</a> || <p>Br. Wim van der Wiel zal de derde brief van Johannes samen met de aanwezigen doornemen.</p>
LAST-MODIFIED:20260423T032132Z
LOCATION: Het Vlechtwerk | H.J. Roubosstraat 3 Werkendam
SEQUENCE:0
STATUS:CONFIRMED
SUMMARY:Bijbel Open Avond
TRANSP:OPAQUE
END:VEVENT
END:VCALENDAR
