BEGIN:VCALENDAR
PRODID:-//PUBBLE//agenda//NL
VERSION:2.0
METHOD:PUBLISH
BEGIN:VEVENT
DTSTART:20260422T070000Z
DTEND:20260422T100000Z
DTSTAMP:20260422T055308Z
UID:8a4a573b-bde4-4df2-bd94-7ebbd0cd58d0
CREATED:20260422T055308Z
NAME:Kleding maken hetkontakt.nl
X-WR-CALNAME:Kleding maken
X-ALT-DESC;FMTTYPE=text/html:<a href='/westbetuwe/agenda/2026/4/22/kleding-maken-460853'>/westbetuwe/agenda/2026/4/22/kleding-maken-460853</a> || <p>Haken en breien bij KLEDINGMAKENDOEJEZO in Dorpshuis De Poort in Herwijnen.&nbsp;Met plezier en gezelligheid wordt er weer veel gebreid en gehaakt voor de kansarme bevolking in Moldavië. De opgestuurde filmpjes laten zien dat hulp nog broodnodig is. Ook meedoen? Iedereen is welkom. </p>
DESCRIPTION:<a href='/westbetuwe/agenda/2026/4/22/kleding-maken-460853'>/westbetuwe/agenda/2026/4/22/kleding-maken-460853</a> || <p>Haken en breien bij KLEDINGMAKENDOEJEZO in Dorpshuis De Poort in Herwijnen.&nbsp;Met plezier en gezelligheid wordt er weer veel gebreid en gehaakt voor de kansarme bevolking in Moldavië. De opgestuurde filmpjes laten zien dat hulp nog broodnodig is. Ook meedoen? Iedereen is welkom. </p>
LAST-MODIFIED:20260422T055308Z
LOCATION: Dorpshuis De Poort |   Herwijnen
SEQUENCE:0
STATUS:CONFIRMED
SUMMARY:Kleding maken
TRANSP:OPAQUE
END:VEVENT
END:VCALENDAR
