BEGIN:VCALENDAR
PRODID:-//PUBBLE//agenda//NL
VERSION:2.0
METHOD:PUBLISH
BEGIN:VEVENT
DTSTART:20260420T173000Z
DTEND:20260420T194500Z
DTSTAMP:20260420T235428Z
UID:9e2ad3c8-865a-4159-b5df-acb5d51e52ac
CREATED:20260420T235428Z
NAME:MAF - informatieavond met Martha en Andrias Hansen hetkontakt.nl
X-WR-CALNAME:MAF - informatieavond met Martha en Andrias Hansen
X-ALT-DESC;FMTTYPE=text/html:<a href='/tielenburen/agenda/2026/4/20/maf-informatieavond-met-martha-en-andrias-hansen-460827'>/tielenburen/agenda/2026/4/20/maf-informatieavond-met-martha-en-andrias-hansen-460827</a> || <p>Martha en Andrias Hansen-van den Herik hopen binnenkort uitgezonden te worden voor de MAF. &nbsp;De MAF is een internationale christelijke organisatie die met kleine vliegtuigen hulp brengt naar de meest afgelegen gebieden ter &nbsp;wereld.</p><p>Van harte welkom bij de informatie- en sponsoravond over deze uitzending.&nbsp;</p><p>Tijdens deze avond nemen ze ons mee met de voorbereidingen, de opleiding en het traject met de MAF.</p><p>Wanneer: maandag 20 april 2026 in de Open Deur.</p><p>Locatie: De Open Deur, Papestraat 3, Lienden</p><p>Inloop: 19.30 uur</p><p>Start: 19.45 uur</p><p>De MAF is een internationale christelijke organisatie die met kleine vliegtuigen hulp brengt naar de meest afgelegen gebieden ter &nbsp;wereld. In landen waar wegen ontbreken of onbegaanbaar zijn, vormen deze vluchten vaak de enige levenslijn.</p>
DESCRIPTION:<a href='/tielenburen/agenda/2026/4/20/maf-informatieavond-met-martha-en-andrias-hansen-460827'>/tielenburen/agenda/2026/4/20/maf-informatieavond-met-martha-en-andrias-hansen-460827</a> || <p>Martha en Andrias Hansen-van den Herik hopen binnenkort uitgezonden te worden voor de MAF. &nbsp;De MAF is een internationale christelijke organisatie die met kleine vliegtuigen hulp brengt naar de meest afgelegen gebieden ter &nbsp;wereld.</p><p>Van harte welkom bij de informatie- en sponsoravond over deze uitzending.&nbsp;</p><p>Tijdens deze avond nemen ze ons mee met de voorbereidingen, de opleiding en het traject met de MAF.</p><p>Wanneer: maandag 20 april 2026 in de Open Deur.</p><p>Locatie: De Open Deur, Papestraat 3, Lienden</p><p>Inloop: 19.30 uur</p><p>Start: 19.45 uur</p><p>De MAF is een internationale christelijke organisatie die met kleine vliegtuigen hulp brengt naar de meest afgelegen gebieden ter &nbsp;wereld. In landen waar wegen ontbreken of onbegaanbaar zijn, vormen deze vluchten vaak de enige levenslijn.</p>
LAST-MODIFIED:20260420T235428Z
LOCATION: De Open Deur | Papestraat  3 Lienden
SEQUENCE:0
STATUS:CONFIRMED
SUMMARY:MAF - informatieavond met Martha en Andrias Hansen
TRANSP:OPAQUE
END:VEVENT
END:VCALENDAR
