BEGIN:VCALENDAR
PRODID:-//PUBBLE//agenda//NL
VERSION:2.0
METHOD:PUBLISH
BEGIN:VEVENT
DTSTART:20260425T110000Z
DTEND:20260425T133000Z
DTSTAMP:20260425T111430Z
UID:9fca13c3-2baf-4e4c-9e0d-e82ca53c09fe
CREATED:20260425T111430Z
NAME:Repair Café Tiel hetkontakt.nl
X-WR-CALNAME:Repair Café Tiel
X-ALT-DESC;FMTTYPE=text/html:<a href='/tielenburen/agenda/2026/4/25/repair-cafe-tiel-460655'>/tielenburen/agenda/2026/4/25/repair-cafe-tiel-460655</a> || <p>Zaterdag 25 april 2026</p><p>Repaircafé-Tiel.13.00 – 15.30, Tiel, Medelsestraat 5 (Sociaal Plein 2-Tiel) (parkeren aan de Grote Brugse Grintweg). Defecte spullen (elektronica, elektrische apparaten, kleding, houten constructies, etc.) worden (indien mogelijk) gerepareerd door ervaren reparateurs. Gratis, alleen noodzakelijk materiaal is voor eigen rekening. Een bijdrage in contant geld (we hebben geen QR-code of mogelijkheid voor digitale betaling) in de fooienpot wordt gewaardeerd om lopende kosten (deels) te dekken. Voor hout en kleding reparaties graag &nbsp;eerst aanmelden vóór woensdag 22 april 2026 bij repaircafetiel2@gmail.com</p>
DESCRIPTION:<a href='/tielenburen/agenda/2026/4/25/repair-cafe-tiel-460655'>/tielenburen/agenda/2026/4/25/repair-cafe-tiel-460655</a> || <p>Zaterdag 25 april 2026</p><p>Repaircafé-Tiel.13.00 – 15.30, Tiel, Medelsestraat 5 (Sociaal Plein 2-Tiel) (parkeren aan de Grote Brugse Grintweg). Defecte spullen (elektronica, elektrische apparaten, kleding, houten constructies, etc.) worden (indien mogelijk) gerepareerd door ervaren reparateurs. Gratis, alleen noodzakelijk materiaal is voor eigen rekening. Een bijdrage in contant geld (we hebben geen QR-code of mogelijkheid voor digitale betaling) in de fooienpot wordt gewaardeerd om lopende kosten (deels) te dekken. Voor hout en kleding reparaties graag &nbsp;eerst aanmelden vóór woensdag 22 april 2026 bij repaircafetiel2@gmail.com</p>
LAST-MODIFIED:20260425T111430Z
LOCATION: Sociaal Plein 2 | Medelsestraat  5/5A Tiel
SEQUENCE:0
STATUS:CONFIRMED
SUMMARY:Repair Café Tiel
TRANSP:OPAQUE
END:VEVENT
END:VCALENDAR
