BEGIN:VCALENDAR
PRODID:-//PUBBLE//agenda//NL
VERSION:2.0
METHOD:PUBLISH
BEGIN:VEVENT
DTSTART:20260411T130938Z
DTEND:20260425T100000Z
DTSTAMP:20260422T075129Z
UID:18658af4-58ef-46d6-b480-0573ae45f6f7
CREATED:20260422T075129Z
NAME:Vogelmarkt hetkontakt.nl
X-WR-CALNAME:Vogelmarkt
X-ALT-DESC;FMTTYPE=text/html:<a href='/krimpenerwaard/agenda/2026/4/25/vogelmarkt-460650'>/krimpenerwaard/agenda/2026/4/25/vogelmarkt-460650</a> || <p>Nieuwe vogelmarkt in het clubgebouw van de Vogelvrienden. Er is een vogelhandelaar aanwezig voor de aan- en verkoop van vogels. Daarnaast zijn er, naast het normale voer, ook pinkeys, buffalo’s en bloedluisbestrijdingsmiddelen op voorraad.</p>
DESCRIPTION:<a href='/krimpenerwaard/agenda/2026/4/25/vogelmarkt-460650'>/krimpenerwaard/agenda/2026/4/25/vogelmarkt-460650</a> || <p>Nieuwe vogelmarkt in het clubgebouw van de Vogelvrienden. Er is een vogelhandelaar aanwezig voor de aan- en verkoop van vogels. Daarnaast zijn er, naast het normale voer, ook pinkeys, buffalo’s en bloedluisbestrijdingsmiddelen op voorraad.</p>
LAST-MODIFIED:20260422T075129Z
LOCATION: Vogelvereniging 'De Vogelvrienden'  | Dijklaan 57 Bergambacht
SEQUENCE:0
STATUS:CONFIRMED
SUMMARY:Vogelmarkt
TRANSP:OPAQUE
END:VEVENT
END:VCALENDAR
