BEGIN:VCALENDAR
PRODID:-//PUBBLE//agenda//NL
VERSION:2.0
METHOD:PUBLISH
BEGIN:VEVENT
DTSTART:20260425T173000Z
DTEND:20260425T183000Z
DTSTAMP:20260422T075130Z
UID:e0db1f3b-d448-4562-9e9c-68ffad857d88
CREATED:20260422T075130Z
NAME:Benefietconcert hetkontakt.nl
X-WR-CALNAME:Benefietconcert
X-ALT-DESC;FMTTYPE=text/html:<a href='/krimpenerwaard/agenda/2026/4/25/benefietconcert-460573'>/krimpenerwaard/agenda/2026/4/25/benefietconcert-460573</a> || <p>Benefietconcert t.b.v. de GZB-Egypte. De invulling van de avond wordt verzorgd door het ZuidHollandKoor o.l.v. dirigent Willem van Beek, organist Kees de Bruin en spreekster Annemarie van Heijningen. Toegang is gratis. Er is een collecte voor de GZB. De deuren zijn open vanaf 19.00 uur. </p>
DESCRIPTION:<a href='/krimpenerwaard/agenda/2026/4/25/benefietconcert-460573'>/krimpenerwaard/agenda/2026/4/25/benefietconcert-460573</a> || <p>Benefietconcert t.b.v. de GZB-Egypte. De invulling van de avond wordt verzorgd door het ZuidHollandKoor o.l.v. dirigent Willem van Beek, organist Kees de Bruin en spreekster Annemarie van Heijningen. Toegang is gratis. Er is een collecte voor de GZB. De deuren zijn open vanaf 19.00 uur. </p>
LAST-MODIFIED:20260422T075130Z
LOCATION: Hervormde Kerk Polsbroek-Vlist | Dorp 24 Polsbroek
SEQUENCE:0
STATUS:CONFIRMED
SUMMARY:Benefietconcert
TRANSP:OPAQUE
END:VEVENT
END:VCALENDAR
