BEGIN:VCALENDAR
PRODID:-//PUBBLE//agenda//NL
VERSION:2.0
METHOD:PUBLISH
BEGIN:VEVENT
DTSTART:20260422T120000Z
DTEND:20260422T140000Z
DTSTAMP:20260422T042004Z
UID:63e3847e-347d-40af-b29a-20ba5d860648
CREATED:20260422T042004Z
NAME:Kaart- en spelmiddag hetkontakt.nl
X-WR-CALNAME:Kaart- en spelmiddag
X-ALT-DESC;FMTTYPE=text/html:<a href='/krimpenerwaard/agenda/2026/4/22/kaart-en-spelmiddag-460496'>/krimpenerwaard/agenda/2026/4/22/kaart-en-spelmiddag-460496</a> || <p>Elke vierde woensdag van de maand is er een spelinloop met klaverjassen, rummikub, mens-erger-je-niet, scrabble en andere bord- en kaartspellen. Diverse spellen zijn beschikbaar, en het meenemen van eigen spellen is mogelijk. Deelname is gratis; consumpties kosten 1 euro.</p>
DESCRIPTION:<a href='/krimpenerwaard/agenda/2026/4/22/kaart-en-spelmiddag-460496'>/krimpenerwaard/agenda/2026/4/22/kaart-en-spelmiddag-460496</a> || <p>Elke vierde woensdag van de maand is er een spelinloop met klaverjassen, rummikub, mens-erger-je-niet, scrabble en andere bord- en kaartspellen. Diverse spellen zijn beschikbaar, en het meenemen van eigen spellen is mogelijk. Deelname is gratis; consumpties kosten 1 euro.</p>
LAST-MODIFIED:20260422T042004Z
LOCATION: De Oude Praktijk | Brederodestraat 3 Krimpen a/d Lek
SEQUENCE:0
STATUS:CONFIRMED
SUMMARY:Kaart- en spelmiddag
TRANSP:OPAQUE
END:VEVENT
END:VCALENDAR
