BEGIN:VCALENDAR
PRODID:-//PUBBLE//agenda//NL
VERSION:2.0
METHOD:PUBLISH
BEGIN:VEVENT
DTSTART:20260424T080000Z
DTEND:20260424T120000Z
DTSTAMP:20260421T070711Z
UID:31163b1b-6000-4f39-8768-07bc72ee5b8e
CREATED:20260421T070711Z
NAME:Open dag ’t Kulturhus Lienden op 24 april 2026 hetkontakt.nl
X-WR-CALNAME:Open dag ’t Kulturhus Lienden op 24 april 2026
X-ALT-DESC;FMTTYPE=text/html:<a href='/tielenburen/agenda/2026/4/24/open-dag-t-kulturhus-lienden-op-24-april-2026-460446'>/tielenburen/agenda/2026/4/24/open-dag-t-kulturhus-lienden-op-24-april-2026-460446</a> || <p>Op vrijdag 24 april 2026 opent ’t Kulturhus in Lienden de deuren ter gelegenheid van het 12,5‑jarig bestaan van de woonlocatie. Iedereen is tussen 10.00 en 14.00 uur van harte welkom om deze mijlpaal mee te vieren en kennis te maken met de bijzondere, kleinschalige woonlocatie voor mensen met dementie.</p><p>’t Kulturhus is onderdeel van Santé Partners en biedt een unieke, huiselijke woonvorm waarin persoonlijke aandacht en onderlinge verbondenheid centraal staan. Bewoners leven in kleinschalige woongroepen met gemeenschappelijke huiskamers en eigen appartementen die zij naar eigen wens kunnen inrichten. </p>
DESCRIPTION:<a href='/tielenburen/agenda/2026/4/24/open-dag-t-kulturhus-lienden-op-24-april-2026-460446'>/tielenburen/agenda/2026/4/24/open-dag-t-kulturhus-lienden-op-24-april-2026-460446</a> || <p>Op vrijdag 24 april 2026 opent ’t Kulturhus in Lienden de deuren ter gelegenheid van het 12,5‑jarig bestaan van de woonlocatie. Iedereen is tussen 10.00 en 14.00 uur van harte welkom om deze mijlpaal mee te vieren en kennis te maken met de bijzondere, kleinschalige woonlocatie voor mensen met dementie.</p><p>’t Kulturhus is onderdeel van Santé Partners en biedt een unieke, huiselijke woonvorm waarin persoonlijke aandacht en onderlinge verbondenheid centraal staan. Bewoners leven in kleinschalige woongroepen met gemeenschappelijke huiskamers en eigen appartementen die zij naar eigen wens kunnen inrichten. </p>
LAST-MODIFIED:20260421T070711Z
LOCATION: Kulturhus Lienden | Koningin Beatrixplein 5 Lienden
SEQUENCE:0
STATUS:CONFIRMED
SUMMARY:Open dag ’t Kulturhus Lienden op 24 april 2026
TRANSP:OPAQUE
END:VEVENT
END:VCALENDAR
