BEGIN:VCALENDAR
PRODID:-//PUBBLE//agenda//NL
VERSION:2.0
METHOD:PUBLISH
BEGIN:VEVENT
DTSTART:20260414T120200Z
DTEND:20260421T140000Z
DTSTAMP:20260421T094252Z
UID:99c24396-0432-4fea-81ab-93e0aad51b13
CREATED:20260421T094252Z
NAME:Bakkie Hoop hetkontakt.nl
X-WR-CALNAME:Bakkie Hoop
X-ALT-DESC;FMTTYPE=text/html:<a href='/westbetuwe/agenda/2026/4/21/bakkie-hoop-460438'>/westbetuwe/agenda/2026/4/21/bakkie-hoop-460438</a> || <p>Iedere dinsdagmiddag van 13:00 tot 16:00 is er een koffie en theetafel. Iedereen is welkom om te kletsen, de krant te lezen of een spelletje te doen. Aanmelden hoeft niet, de toegang en de koffie of thee zijn gratis. Wij zetten ons in tegen eenzaamheid en doen dit iedere week weer voor iedereen die daar behoefte aan heeft. Bij ons mag je lachen, huilen of er gewoon zijn.</p>
DESCRIPTION:<a href='/westbetuwe/agenda/2026/4/21/bakkie-hoop-460438'>/westbetuwe/agenda/2026/4/21/bakkie-hoop-460438</a> || <p>Iedere dinsdagmiddag van 13:00 tot 16:00 is er een koffie en theetafel. Iedereen is welkom om te kletsen, de krant te lezen of een spelletje te doen. Aanmelden hoeft niet, de toegang en de koffie of thee zijn gratis. Wij zetten ons in tegen eenzaamheid en doen dit iedere week weer voor iedereen die daar behoefte aan heeft. Bij ons mag je lachen, huilen of er gewoon zijn.</p>
LAST-MODIFIED:20260421T094252Z
LOCATION: Tweedehandse kledingshop  | Rijnstraat 51H Geldermalsen
SEQUENCE:0
STATUS:CONFIRMED
SUMMARY:Bakkie Hoop
TRANSP:OPAQUE
END:VEVENT
END:VCALENDAR
