BEGIN:VCALENDAR
PRODID:-//PUBBLE//agenda//NL
VERSION:2.0
METHOD:PUBLISH
BEGIN:VEVENT
DTSTART:20260423T080000Z
DTEND:20260423T100000Z
DTSTAMP:20260422T075205Z
UID:16cdb08a-51fd-45a7-ab52-9ca9a151faf5
CREATED:20260422T075205Z
NAME:Modeshow hetkontakt.nl
X-WR-CALNAME:Modeshow
X-ALT-DESC;FMTTYPE=text/html:<a href='/krimpenerwaard/agenda/2026/4/23/modeshow-460351'>/krimpenerwaard/agenda/2026/4/23/modeshow-460351</a> || <p>Isabella Mode presenteert de nieuwe lente- en zomermode tijdens een modeshow. De toegang is gratis. Aanmelden kan via (0182) 362754.</p>
DESCRIPTION:<a href='/krimpenerwaard/agenda/2026/4/23/modeshow-460351'>/krimpenerwaard/agenda/2026/4/23/modeshow-460351</a> || <p>Isabella Mode presenteert de nieuwe lente- en zomermode tijdens een modeshow. De toegang is gratis. Aanmelden kan via (0182) 362754.</p>
LAST-MODIFIED:20260422T075205Z
LOCATION: Cultureel Centrum De Zwaan | Kerkweg 2 Berkenwoude
SEQUENCE:0
STATUS:CONFIRMED
SUMMARY:Modeshow
TRANSP:OPAQUE
END:VEVENT
END:VCALENDAR
