BEGIN:VCALENDAR
PRODID:-//PUBBLE//agenda//NL
VERSION:2.0
METHOD:PUBLISH
BEGIN:VEVENT
DTSTART:20260425T113000Z
DTEND:20260425T123000Z
DTSTAMP:20260424T080739Z
UID:46f80ab0-5881-4c58-9d4c-19122cfe5dcf
CREATED:20260424T080739Z
NAME:Wind Water Wieken: tentoonstelling in het Uppels Gemaal hetkontakt.nl
X-WR-CALNAME:Wind Water Wieken: tentoonstelling in het Uppels Gemaal
X-ALT-DESC;FMTTYPE=text/html:<a href='/altena/agenda/2026/4/25/wind-water-wieken-tentoonstelling-in-het-uppels-gemaal-460333'>/altena/agenda/2026/4/25/wind-water-wieken-tentoonstelling-in-het-uppels-gemaal-460333</a> || <p>Onder de titel&nbsp;<em>Wind Water Wieken</em>&nbsp;exposeren keramist Marianne Meijer en beeldend kunstenaar Vic Gremmer (schilderijen en tekeningen) in het sfeervol gelegen Uppels Gemaal in Sleeuwijk.</p><p>De tentoonstelling wordt op zaterdag 25 april om 13.30 uur geopend door Daphne van Hekken en Hannie Visser-Kieboom.</p><p>Daarna is de expositie te bezoeken op de weekeinden van 25/26 april, 2/3 mei, 9/10 mei (Nationale Molendagen) en 16/17 mei, telkens van 13.00 tot 17.00 uur.</p><p><strong>Adres:</strong>&nbsp;Uppelse Steeg 2, 4254 XZ Sleeuwijk.<br /><em>Het Uppels Gemaal is alleen per fiets of te voet bereikbaar: vanuit Sleeuwijk via De Roef, vanuit Uppel via De Omloop.</em></p>
DESCRIPTION:<a href='/altena/agenda/2026/4/25/wind-water-wieken-tentoonstelling-in-het-uppels-gemaal-460333'>/altena/agenda/2026/4/25/wind-water-wieken-tentoonstelling-in-het-uppels-gemaal-460333</a> || <p>Onder de titel&nbsp;<em>Wind Water Wieken</em>&nbsp;exposeren keramist Marianne Meijer en beeldend kunstenaar Vic Gremmer (schilderijen en tekeningen) in het sfeervol gelegen Uppels Gemaal in Sleeuwijk.</p><p>De tentoonstelling wordt op zaterdag 25 april om 13.30 uur geopend door Daphne van Hekken en Hannie Visser-Kieboom.</p><p>Daarna is de expositie te bezoeken op de weekeinden van 25/26 april, 2/3 mei, 9/10 mei (Nationale Molendagen) en 16/17 mei, telkens van 13.00 tot 17.00 uur.</p><p><strong>Adres:</strong>&nbsp;Uppelse Steeg 2, 4254 XZ Sleeuwijk.<br /><em>Het Uppels Gemaal is alleen per fiets of te voet bereikbaar: vanuit Sleeuwijk via De Roef, vanuit Uppel via De Omloop.</em></p>
LAST-MODIFIED:20260424T080739Z
LOCATION: Uppels Gemaal | Uppelse Steeg 2 Sleeuwijk
SEQUENCE:0
STATUS:CONFIRMED
SUMMARY:Wind Water Wieken: tentoonstelling in het Uppels Gemaal
TRANSP:OPAQUE
END:VEVENT
END:VCALENDAR
