BEGIN:VCALENDAR
PRODID:-//PUBBLE//agenda//NL
VERSION:2.0
METHOD:PUBLISH
BEGIN:VEVENT
DTSTART:20260408T092641Z
DTEND:20260408T102641Z
DTSTAMP:20260420T045131Z
UID:1d96fcae-04a8-4d12-8a1a-881d8d1b410f
CREATED:20260420T045131Z
NAME:JAMPOP hetkontakt.nl
X-WR-CALNAME:JAMPOP
X-ALT-DESC;FMTTYPE=text/html:<a href='/vijfheerenlanden/agenda/2026/4/25/jampop-460291'>/vijfheerenlanden/agenda/2026/4/25/jampop-460291</a> || <p>Mash Anarchy staat voor de tweede keer op het podium van JAMPOP. Alles klopt en rocked bij deze band. Ze toveren bekende popsongs om tot dampende rockversies. Toegang: 7,50 euro.</p>
DESCRIPTION:<a href='/vijfheerenlanden/agenda/2026/4/25/jampop-460291'>/vijfheerenlanden/agenda/2026/4/25/jampop-460291</a> || <p>Mash Anarchy staat voor de tweede keer op het podium van JAMPOP. Alles klopt en rocked bij deze band. Ze toveren bekende popsongs om tot dampende rockversies. Toegang: 7,50 euro.</p>
LAST-MODIFIED:20260420T045131Z
LOCATION: dorpshuis 't Knooppunt | Graaf Florisstraat  Everdingen
SEQUENCE:0
STATUS:CONFIRMED
SUMMARY:JAMPOP
TRANSP:OPAQUE
END:VEVENT
END:VCALENDAR
