BEGIN:VCALENDAR
PRODID:-//PUBBLE//agenda//NL
VERSION:2.0
METHOD:PUBLISH
BEGIN:VEVENT
DTSTART:20260408T082009Z
DTEND:20260916T100000Z
DTSTAMP:20260422T090540Z
UID:0667b010-c0eb-4012-863a-4d9addc097ff
CREATED:20260422T090540Z
NAME:Repair Café hetkontakt.nl
X-WR-CALNAME:Repair Café
X-ALT-DESC;FMTTYPE=text/html:<a href='/krimpenerwaard/agenda/2026/9/16/repair-cafe-460277'>/krimpenerwaard/agenda/2026/9/16/repair-cafe-460277</a> || <p>Elke derde woensdagochtend van de maand is er een Repair Café in de Muziekzaal van Amicitia. Inwoners kunnen er samen met vrijwilligers gratis kapotte spullen repareren, zoals kleine elektrische apparaten, fietsen, kleding en meer. Het initiatief draait om duurzaamheid, ontmoeting en kennis delen. Toegang is gratis (materiaal tegen kostprijs, donaties welkom). </p>
DESCRIPTION:<a href='/krimpenerwaard/agenda/2026/9/16/repair-cafe-460277'>/krimpenerwaard/agenda/2026/9/16/repair-cafe-460277</a> || <p>Elke derde woensdagochtend van de maand is er een Repair Café in de Muziekzaal van Amicitia. Inwoners kunnen er samen met vrijwilligers gratis kapotte spullen repareren, zoals kleine elektrische apparaten, fietsen, kleding en meer. Het initiatief draait om duurzaamheid, ontmoeting en kennis delen. Toegang is gratis (materiaal tegen kostprijs, donaties welkom). </p>
LAST-MODIFIED:20260422T090540Z
LOCATION: Amicitia | Raadhuisplein 1-5 Lekkerkerk
SEQUENCE:0
STATUS:CONFIRMED
SUMMARY:Repair Café
TRANSP:OPAQUE
END:VEVENT
END:VCALENDAR
