BEGIN:VCALENDAR
PRODID:-//PUBBLE//agenda//NL
VERSION:2.0
METHOD:PUBLISH
BEGIN:VEVENT
DTSTART:20260408T081944Z
DTEND:20260819T100000Z
DTSTAMP:20260422T090540Z
UID:08807e7d-d7fb-45ca-9a28-543078832edc
CREATED:20260422T090540Z
NAME:Repair Café hetkontakt.nl
X-WR-CALNAME:Repair Café
X-ALT-DESC;FMTTYPE=text/html:<a href='/krimpenerwaard/agenda/2026/8/19/repair-cafe-460276'>/krimpenerwaard/agenda/2026/8/19/repair-cafe-460276</a> || <p>Elke derde woensdagochtend van de maand is er een Repair Café in de Muziekzaal van Amicitia. Inwoners kunnen er samen met vrijwilligers gratis kapotte spullen repareren, zoals kleine elektrische apparaten, fietsen, kleding en meer. Het initiatief draait om duurzaamheid, ontmoeting en kennis delen. Toegang is gratis (materiaal tegen kostprijs, donaties welkom). </p>
DESCRIPTION:<a href='/krimpenerwaard/agenda/2026/8/19/repair-cafe-460276'>/krimpenerwaard/agenda/2026/8/19/repair-cafe-460276</a> || <p>Elke derde woensdagochtend van de maand is er een Repair Café in de Muziekzaal van Amicitia. Inwoners kunnen er samen met vrijwilligers gratis kapotte spullen repareren, zoals kleine elektrische apparaten, fietsen, kleding en meer. Het initiatief draait om duurzaamheid, ontmoeting en kennis delen. Toegang is gratis (materiaal tegen kostprijs, donaties welkom). </p>
LAST-MODIFIED:20260422T090540Z
LOCATION: Amicitia | Raadhuisplein 1-5 Lekkerkerk
SEQUENCE:0
STATUS:CONFIRMED
SUMMARY:Repair Café
TRANSP:OPAQUE
END:VEVENT
END:VCALENDAR
