BEGIN:VCALENDAR
PRODID:-//PUBBLE//agenda//NL
VERSION:2.0
METHOD:PUBLISH
BEGIN:VEVENT
DTSTART:20260408T081901Z
DTEND:20260715T100000Z
DTSTAMP:20260422T090546Z
UID:25c1313d-85bb-44d2-84b5-bca48335cdf6
CREATED:20260422T090546Z
NAME:Repair Café hetkontakt.nl
X-WR-CALNAME:Repair Café
X-ALT-DESC;FMTTYPE=text/html:<a href='/krimpenerwaard/agenda/2026/7/15/repair-cafe-460275'>/krimpenerwaard/agenda/2026/7/15/repair-cafe-460275</a> || <p>Elke derde woensdagochtend van de maand is er een Repair Café in de Muziekzaal van Amicitia. Inwoners kunnen er samen met vrijwilligers gratis kapotte spullen repareren, zoals kleine elektrische apparaten, fietsen, kleding en meer. Het initiatief draait om duurzaamheid, ontmoeting en kennis delen. Toegang is gratis (materiaal tegen kostprijs, donaties welkom). </p>
DESCRIPTION:<a href='/krimpenerwaard/agenda/2026/7/15/repair-cafe-460275'>/krimpenerwaard/agenda/2026/7/15/repair-cafe-460275</a> || <p>Elke derde woensdagochtend van de maand is er een Repair Café in de Muziekzaal van Amicitia. Inwoners kunnen er samen met vrijwilligers gratis kapotte spullen repareren, zoals kleine elektrische apparaten, fietsen, kleding en meer. Het initiatief draait om duurzaamheid, ontmoeting en kennis delen. Toegang is gratis (materiaal tegen kostprijs, donaties welkom). </p>
LAST-MODIFIED:20260422T090546Z
LOCATION: Amicitia | Raadhuisplein 1-5 Lekkerkerk
SEQUENCE:0
STATUS:CONFIRMED
SUMMARY:Repair Café
TRANSP:OPAQUE
END:VEVENT
END:VCALENDAR
