BEGIN:VCALENDAR
PRODID:-//PUBBLE//agenda//NL
VERSION:2.0
METHOD:PUBLISH
BEGIN:VEVENT
DTSTART:20260428T120000Z
DTEND:20260428T140000Z
DTSTAMP:20260426T025220Z
UID:4a4cf9b2-55d4-44ba-93fd-dda86433dcc3
CREATED:20260426T025220Z
NAME:Maak je eigen schild met familiewapen hetkontakt.nl
X-WR-CALNAME:Maak je eigen schild met familiewapen
X-ALT-DESC;FMTTYPE=text/html:<a href='/tielenburen/agenda/2026/4/28/maak-je-eigen-schild-met-familiewapen-460210'>/tielenburen/agenda/2026/4/28/maak-je-eigen-schild-met-familiewapen-460210</a> || <p>Ben jij klaar om jouw eigen heldenverhaal te maken? Tijdens deze creatieve cursus van 3 lessen in de meivakantie ontwerp en maak je je eigen schild met familiewapen voor het dorpsfeest in Buren.</p><p>Je gaat aan de slag met verschillende technieken en tools uit de Maakplaats, zoals de lasersnijder en vinylsnijder. Stap voor stap werk je aan een uniek ontwerp waar je trots op kunt zijn. &nbsp;Natuurlijk word je begeleid door de medewerkers van Bibliotheek Rivierenland. Laat je fantasie losgaan! Doe je mee?<br>Voor kinderen vanaf 10 jaar, gratis, aanmelden <a href="//www.bibliotheekrivierenland.nl/buren">www.bibliotheekrivierenland.nl/buren</a>&nbsp;of bel met 0344-639940.</p>
DESCRIPTION:<a href='/tielenburen/agenda/2026/4/28/maak-je-eigen-schild-met-familiewapen-460210'>/tielenburen/agenda/2026/4/28/maak-je-eigen-schild-met-familiewapen-460210</a> || <p>Ben jij klaar om jouw eigen heldenverhaal te maken? Tijdens deze creatieve cursus van 3 lessen in de meivakantie ontwerp en maak je je eigen schild met familiewapen voor het dorpsfeest in Buren.</p><p>Je gaat aan de slag met verschillende technieken en tools uit de Maakplaats, zoals de lasersnijder en vinylsnijder. Stap voor stap werk je aan een uniek ontwerp waar je trots op kunt zijn. &nbsp;Natuurlijk word je begeleid door de medewerkers van Bibliotheek Rivierenland. Laat je fantasie losgaan! Doe je mee?<br>Voor kinderen vanaf 10 jaar, gratis, aanmelden <a href="//www.bibliotheekrivierenland.nl/buren">www.bibliotheekrivierenland.nl/buren</a>&nbsp;of bel met 0344-639940.</p>
LAST-MODIFIED:20260426T025220Z
LOCATION: Beheergebouw Weeshuis | Commanderij 20  Buren
SEQUENCE:0
STATUS:CONFIRMED
SUMMARY:Maak je eigen schild met familiewapen
TRANSP:OPAQUE
END:VEVENT
END:VCALENDAR
