BEGIN:VCALENDAR
PRODID:-//PUBBLE//agenda//NL
VERSION:2.0
METHOD:PUBLISH
BEGIN:VEVENT
DTSTART:20260506T073000Z
DTEND:20260506T093000Z
DTSTAMP:20260421T071734Z
UID:1e9ca3b1-8728-47e9-8403-a9c68be1b982
CREATED:20260421T071734Z
NAME:Wandel mee met WandelHart vanuit de Stadsfabriek hetkontakt.nl
X-WR-CALNAME:Wandel mee met WandelHart vanuit de Stadsfabriek
X-ALT-DESC;FMTTYPE=text/html:<a href='/tielenburen/agenda/2026/5/6/wandel-mee-met-wandelhart-vanuit-de-stadsfabriek-460072'>/tielenburen/agenda/2026/5/6/wandel-mee-met-wandelhart-vanuit-de-stadsfabriek-460072</a> || <p>WandelHart is een wekelijkse wandelgroep vanuit de Stadsfabriek in Tiel. Samen buiten zijn, wandelen, verdiepen en verbinden staan centraal. Loop mee, ontmoet anderen en geniet van een frisse start van de dag. Vertrek is om 09.30 uur vanaf de Stadsfabriek, Medelsestraat 5 in Tiel. Meedoen is gratis.</p>
DESCRIPTION:<a href='/tielenburen/agenda/2026/5/6/wandel-mee-met-wandelhart-vanuit-de-stadsfabriek-460072'>/tielenburen/agenda/2026/5/6/wandel-mee-met-wandelhart-vanuit-de-stadsfabriek-460072</a> || <p>WandelHart is een wekelijkse wandelgroep vanuit de Stadsfabriek in Tiel. Samen buiten zijn, wandelen, verdiepen en verbinden staan centraal. Loop mee, ontmoet anderen en geniet van een frisse start van de dag. Vertrek is om 09.30 uur vanaf de Stadsfabriek, Medelsestraat 5 in Tiel. Meedoen is gratis.</p>
LAST-MODIFIED:20260421T071734Z
LOCATION: Stadsfabriek | Medelsestraat 5 Tiel
SEQUENCE:0
STATUS:CONFIRMED
SUMMARY:Wandel mee met WandelHart vanuit de Stadsfabriek
TRANSP:OPAQUE
END:VEVENT
END:VCALENDAR
