BEGIN:VCALENDAR
PRODID:-//PUBBLE//agenda//NL
VERSION:2.0
METHOD:PUBLISH
BEGIN:VEVENT
DTSTART:20260429T073000Z
DTEND:20260429T093000Z
DTSTAMP:20260421T071226Z
UID:abe7230b-4131-4ba3-b566-5a044db1e6d0
CREATED:20260421T071226Z
NAME:Wandel mee met WandelHart vanuit de Stadsfabriek hetkontakt.nl
X-WR-CALNAME:Wandel mee met WandelHart vanuit de Stadsfabriek
X-ALT-DESC;FMTTYPE=text/html:<a href='/tielenburen/agenda/2026/4/29/wandel-mee-met-wandelhart-vanuit-de-stadsfabriek-460071'>/tielenburen/agenda/2026/4/29/wandel-mee-met-wandelhart-vanuit-de-stadsfabriek-460071</a> || <p>WandelHart is een wekelijkse wandelgroep vanuit de Stadsfabriek in Tiel. Samen buiten zijn, wandelen, verdiepen en verbinden staan centraal. Loop mee, ontmoet anderen en geniet van een frisse start van de dag. Vertrek is om 09.30 uur vanaf de Stadsfabriek, Medelsestraat 5 in Tiel. Meedoen is gratis.</p>
DESCRIPTION:<a href='/tielenburen/agenda/2026/4/29/wandel-mee-met-wandelhart-vanuit-de-stadsfabriek-460071'>/tielenburen/agenda/2026/4/29/wandel-mee-met-wandelhart-vanuit-de-stadsfabriek-460071</a> || <p>WandelHart is een wekelijkse wandelgroep vanuit de Stadsfabriek in Tiel. Samen buiten zijn, wandelen, verdiepen en verbinden staan centraal. Loop mee, ontmoet anderen en geniet van een frisse start van de dag. Vertrek is om 09.30 uur vanaf de Stadsfabriek, Medelsestraat 5 in Tiel. Meedoen is gratis.</p>
LAST-MODIFIED:20260421T071226Z
LOCATION: Stadsfabriek | Medelsestraat 5 Tiel
SEQUENCE:0
STATUS:CONFIRMED
SUMMARY:Wandel mee met WandelHart vanuit de Stadsfabriek
TRANSP:OPAQUE
END:VEVENT
END:VCALENDAR
