BEGIN:VCALENDAR
PRODID:-//PUBBLE//agenda//NL
VERSION:2.0
METHOD:PUBLISH
BEGIN:VEVENT
DTSTART:20260422T073000Z
DTEND:20260422T093000Z
DTSTAMP:20260420T235602Z
UID:9a7de167-804a-487c-b857-7bcb6dc304cf
CREATED:20260420T235602Z
NAME:Wandel mee met WandelHart vanuit de Stadsfabriek hetkontakt.nl
X-WR-CALNAME:Wandel mee met WandelHart vanuit de Stadsfabriek
X-ALT-DESC;FMTTYPE=text/html:<a href='/tielenburen/agenda/2026/4/22/wandel-mee-met-wandelhart-vanuit-de-stadsfabriek-460069'>/tielenburen/agenda/2026/4/22/wandel-mee-met-wandelhart-vanuit-de-stadsfabriek-460069</a> || <p>WandelHart is een wekelijkse wandelgroep vanuit de Stadsfabriek in Tiel. Samen buiten zijn, wandelen, verdiepen en verbinden staan centraal. Loop mee, ontmoet anderen en geniet van een frisse start van de dag. Vertrek is om 09.30 uur vanaf de Stadsfabriek, Medelsestraat 5 in Tiel. Meedoen is gratis.</p>
DESCRIPTION:<a href='/tielenburen/agenda/2026/4/22/wandel-mee-met-wandelhart-vanuit-de-stadsfabriek-460069'>/tielenburen/agenda/2026/4/22/wandel-mee-met-wandelhart-vanuit-de-stadsfabriek-460069</a> || <p>WandelHart is een wekelijkse wandelgroep vanuit de Stadsfabriek in Tiel. Samen buiten zijn, wandelen, verdiepen en verbinden staan centraal. Loop mee, ontmoet anderen en geniet van een frisse start van de dag. Vertrek is om 09.30 uur vanaf de Stadsfabriek, Medelsestraat 5 in Tiel. Meedoen is gratis.</p>
LAST-MODIFIED:20260420T235602Z
LOCATION: Stadsfabriek | Medelsestraat 5 Tiel
SEQUENCE:0
STATUS:CONFIRMED
SUMMARY:Wandel mee met WandelHart vanuit de Stadsfabriek
TRANSP:OPAQUE
END:VEVENT
END:VCALENDAR
