BEGIN:VCALENDAR
PRODID:-//PUBBLE//agenda//NL
VERSION:2.0
METHOD:PUBLISH
BEGIN:VEVENT
DTSTART:20260502T141200Z
DTEND:20260502T151200Z
DTSTAMP:20260421T071121Z
UID:6aef90c3-befd-4bd7-82b7-13b905f5fab5
CREATED:20260421T071121Z
NAME:Proeftuinieren bij de Stadsfabriek hetkontakt.nl
X-WR-CALNAME:Proeftuinieren bij de Stadsfabriek
X-ALT-DESC;FMTTYPE=text/html:<a href='/tielenburen/agenda/2026/5/2/proeftuinieren-bij-de-stadsfabriek-460060'>/tielenburen/agenda/2026/5/2/proeftuinieren-bij-de-stadsfabriek-460060</a> || <p>Bij Proeftuinieren ga je samen buiten aan de slag in en rond de Stadsfabriek in Tiel. Er wordt gezaaid, gewerkt, geoogst en geproefd in de eetbare tuin. Iedereen die graag buiten bezig is, is welkom om mee te doen. Proeftuinieren vindt plaats op zaterdagen in de even weken en start om 10.00 uur bij de Stadsfabriek, Medelsestraat 5 in Tiel. </p>
DESCRIPTION:<a href='/tielenburen/agenda/2026/5/2/proeftuinieren-bij-de-stadsfabriek-460060'>/tielenburen/agenda/2026/5/2/proeftuinieren-bij-de-stadsfabriek-460060</a> || <p>Bij Proeftuinieren ga je samen buiten aan de slag in en rond de Stadsfabriek in Tiel. Er wordt gezaaid, gewerkt, geoogst en geproefd in de eetbare tuin. Iedereen die graag buiten bezig is, is welkom om mee te doen. Proeftuinieren vindt plaats op zaterdagen in de even weken en start om 10.00 uur bij de Stadsfabriek, Medelsestraat 5 in Tiel. </p>
LAST-MODIFIED:20260421T071121Z
LOCATION: Stadsfabriek | Medelsestraat 5 Tiel
SEQUENCE:0
STATUS:CONFIRMED
SUMMARY:Proeftuinieren bij de Stadsfabriek
TRANSP:OPAQUE
END:VEVENT
END:VCALENDAR
