BEGIN:VCALENDAR
PRODID:-//PUBBLE//agenda//NL
VERSION:2.0
METHOD:PUBLISH
BEGIN:VEVENT
DTSTART:20260425T080000Z
DTEND:20260425T100000Z
DTSTAMP:20260421T071430Z
UID:18b0482d-7836-411b-bd49-c44be0773a40
CREATED:20260421T071430Z
NAME:Proeftuinieren bij de Stadsfabriek hetkontakt.nl
X-WR-CALNAME:Proeftuinieren bij de Stadsfabriek
X-ALT-DESC;FMTTYPE=text/html:<a href='/tielenburen/agenda/2026/4/25/proeftuinieren-bij-de-stadsfabriek-460059'>/tielenburen/agenda/2026/4/25/proeftuinieren-bij-de-stadsfabriek-460059</a> || <p>Bij Proeftuinieren ga je samen buiten aan de slag in en rond de Stadsfabriek in Tiel. Er wordt gezaaid, gewerkt, geoogst en geproefd in de eetbare tuin. Iedereen die graag buiten bezig is, is welkom om mee te doen. Proeftuinieren vindt plaats op zaterdagen in de even weken en start om 10.00 uur bij de Stadsfabriek, Medelsestraat 5 in Tiel. </p>
DESCRIPTION:<a href='/tielenburen/agenda/2026/4/25/proeftuinieren-bij-de-stadsfabriek-460059'>/tielenburen/agenda/2026/4/25/proeftuinieren-bij-de-stadsfabriek-460059</a> || <p>Bij Proeftuinieren ga je samen buiten aan de slag in en rond de Stadsfabriek in Tiel. Er wordt gezaaid, gewerkt, geoogst en geproefd in de eetbare tuin. Iedereen die graag buiten bezig is, is welkom om mee te doen. Proeftuinieren vindt plaats op zaterdagen in de even weken en start om 10.00 uur bij de Stadsfabriek, Medelsestraat 5 in Tiel. </p>
LAST-MODIFIED:20260421T071430Z
LOCATION: Stadsfabriek | Medelsestraat 5 Tiel
SEQUENCE:0
STATUS:CONFIRMED
SUMMARY:Proeftuinieren bij de Stadsfabriek
TRANSP:OPAQUE
END:VEVENT
END:VCALENDAR
