BEGIN:VCALENDAR
PRODID:-//PUBBLE//agenda//NL
VERSION:2.0
METHOD:PUBLISH
BEGIN:VEVENT
DTSTART:20260422T120000Z
DTEND:20260422T143000Z
DTSTAMP:20260421T035036Z
UID:21c5c321-7ef3-4004-8028-2ce73de3dfb9
CREATED:20260421T035036Z
NAME:Tweedehands Boekenuitverkoop bij Maaswaarden  hetkontakt.nl
X-WR-CALNAME:Tweedehands Boekenuitverkoop bij Maaswaarden 
X-ALT-DESC;FMTTYPE=text/html:<a href='/altena/agenda/2026/4/22/tweedehands-boekenuitverkoop-bij-maaswaarden-459786'>/altena/agenda/2026/4/22/tweedehands-boekenuitverkoop-bij-maaswaarden-459786</a> || <p>Op woensdag 22 april wordt er een voorjaars boekenuitverkoop georganiseerd door Maaswaarden, locatie Wijkestein. De boekenverkoop vindt plaats in het atrium. Alle boeken zijn 0,50 euro. Neem voor meer informatie contact op met Bert Noorloos: 0416-698400.</p>
DESCRIPTION:<a href='/altena/agenda/2026/4/22/tweedehands-boekenuitverkoop-bij-maaswaarden-459786'>/altena/agenda/2026/4/22/tweedehands-boekenuitverkoop-bij-maaswaarden-459786</a> || <p>Op woensdag 22 april wordt er een voorjaars boekenuitverkoop georganiseerd door Maaswaarden, locatie Wijkestein. De boekenverkoop vindt plaats in het atrium. Alle boeken zijn 0,50 euro. Neem voor meer informatie contact op met Bert Noorloos: 0416-698400.</p>
LAST-MODIFIED:20260421T035036Z
LOCATION: Wijkestein | Azaleastraat 26 Wijk en Aalburg
SEQUENCE:0
STATUS:CONFIRMED
SUMMARY:Tweedehands Boekenuitverkoop bij Maaswaarden 
TRANSP:OPAQUE
END:VEVENT
END:VCALENDAR
