BEGIN:VCALENDAR
PRODID:-//PUBBLE//agenda//NL
VERSION:2.0
METHOD:PUBLISH
BEGIN:VEVENT
DTSTART:20260425T090000Z
DTEND:20260426T140000Z
DTSTAMP:20260421T055210Z
UID:da00fbbf-cbe7-45fc-b12c-68eae7c5d8b6
CREATED:20260421T055210Z
NAME:Expositie bij Mus Atelier hetkontakt.nl
X-WR-CALNAME:Expositie bij Mus Atelier
X-ALT-DESC;FMTTYPE=text/html:<a href='/tielenburen/agenda/2026/4/25/expositie-bij-mus-atelier-459777'>/tielenburen/agenda/2026/4/25/expositie-bij-mus-atelier-459777</a> || <p>Dit weekend zijn er weer open-deur-dagen bij Mus Atelier. Er is een enorme diversiteit aan werk te zien in de Galerie van Mus, van kleine tot grote figuratieve schilderijen, maar ook beelden, beschilderd klein meubilair en vele tekeningen. Daarnaast is er dit weekend ook gelegenheid om rond te kijken in haar atelier’s en werkplaatsen naar al het werk in wording. Welkom! Voor een eerste indruk, kijk op: mus-atelier.nl</p>
DESCRIPTION:<a href='/tielenburen/agenda/2026/4/25/expositie-bij-mus-atelier-459777'>/tielenburen/agenda/2026/4/25/expositie-bij-mus-atelier-459777</a> || <p>Dit weekend zijn er weer open-deur-dagen bij Mus Atelier. Er is een enorme diversiteit aan werk te zien in de Galerie van Mus, van kleine tot grote figuratieve schilderijen, maar ook beelden, beschilderd klein meubilair en vele tekeningen. Daarnaast is er dit weekend ook gelegenheid om rond te kijken in haar atelier’s en werkplaatsen naar al het werk in wording. Welkom! Voor een eerste indruk, kijk op: mus-atelier.nl</p>
LAST-MODIFIED:20260421T055210Z
LOCATION: Mus Atelier | Uiterdijk 76 C Zoelen
SEQUENCE:0
STATUS:CONFIRMED
SUMMARY:Expositie bij Mus Atelier
TRANSP:OPAQUE
END:VEVENT
END:VCALENDAR
