BEGIN:VCALENDAR
PRODID:-//PUBBLE//agenda//NL
VERSION:2.0
METHOD:PUBLISH
BEGIN:VEVENT
DTSTART:20260430T113000Z
DTEND:20260430T123000Z
DTSTAMP:20260420T145005Z
UID:f59571e1-f8a7-44a0-a14b-9c7087ab6658
CREATED:20260420T145005Z
NAME:Familievoorstelling Buurman & Buurman gaan naar de maan hetkontakt.nl
X-WR-CALNAME:Familievoorstelling Buurman & Buurman gaan naar de maan
X-ALT-DESC;FMTTYPE=text/html:<a href='/klaroen/agenda/2026/4/30/familievoorstelling-buurman-amp-buurman-gaan-naar-de-maan-459685'>/klaroen/agenda/2026/4/30/familievoorstelling-buurman-amp-buurman-gaan-naar-de-maan-459685</a> || <p>In Theater De Willem aan de Van der Palmstraat in Papendrecht wordt op donderdag 30 april de familievoorstelling Buurman &amp; Buurman gaan naar de maan. Er zijn twee uitvoeringen: om 13.30 uur en om 15:30 uur.</p><p>Als Buurman &amp; Buurman na een dag hard werken ‘s avonds nog even in de tuin zitten, zien ze dat het volle maan is. Wat zou het toch bijzonder zijn om hun huisje eens vanaf te maan te kunnen bekijken, fantaseren ze. ‘Zullen we niet gewoon een raket bouwen en het proberen?’ zegt Buur. Die nacht kunnen ze bijna niet slapen van het idee om naar de maan te gaan. De volgende dag beginnen ze direct. Er moet heel wat gebouwd worden: een raket, een lanceerbasis en natuurlijk ruimtepakken. Als dat maar goed gaat…</p><p>Entree bedraagt 19,50 euro. Voor meer informatie en kaartverkoop: <a href="http://www.theaterdewillem.nl" target="_blank">www.theaterdewillem.nl</a>. De voorstelling is geschikt voor iedereen vanaf 4 jaar, duurt 60 minuten en heeft geen pauze. Ook kleine theaterliefhebbers verdienen een groots uitzicht op het podium. We hebben geen stoelverhogers, maar een eigen verhoger (bijvoorbeeld de onderkant van een autostoeltje) meenemen mag. Tot en met rij 9 is de zaal gelijkvloers.</p>
DESCRIPTION:<a href='/klaroen/agenda/2026/4/30/familievoorstelling-buurman-amp-buurman-gaan-naar-de-maan-459685'>/klaroen/agenda/2026/4/30/familievoorstelling-buurman-amp-buurman-gaan-naar-de-maan-459685</a> || <p>In Theater De Willem aan de Van der Palmstraat in Papendrecht wordt op donderdag 30 april de familievoorstelling Buurman &amp; Buurman gaan naar de maan. Er zijn twee uitvoeringen: om 13.30 uur en om 15:30 uur.</p><p>Als Buurman &amp; Buurman na een dag hard werken ‘s avonds nog even in de tuin zitten, zien ze dat het volle maan is. Wat zou het toch bijzonder zijn om hun huisje eens vanaf te maan te kunnen bekijken, fantaseren ze. ‘Zullen we niet gewoon een raket bouwen en het proberen?’ zegt Buur. Die nacht kunnen ze bijna niet slapen van het idee om naar de maan te gaan. De volgende dag beginnen ze direct. Er moet heel wat gebouwd worden: een raket, een lanceerbasis en natuurlijk ruimtepakken. Als dat maar goed gaat…</p><p>Entree bedraagt 19,50 euro. Voor meer informatie en kaartverkoop: <a href="http://www.theaterdewillem.nl" target="_blank">www.theaterdewillem.nl</a>. De voorstelling is geschikt voor iedereen vanaf 4 jaar, duurt 60 minuten en heeft geen pauze. Ook kleine theaterliefhebbers verdienen een groots uitzicht op het podium. We hebben geen stoelverhogers, maar een eigen verhoger (bijvoorbeeld de onderkant van een autostoeltje) meenemen mag. Tot en met rij 9 is de zaal gelijkvloers.</p>
LAST-MODIFIED:20260420T145005Z
LOCATION: Theater De Willem | Van der Palmstraat 4 Papendrecht
SEQUENCE:0
STATUS:CONFIRMED
SUMMARY:Familievoorstelling Buurman & Buurman gaan naar de maan
TRANSP:OPAQUE
END:VEVENT
END:VCALENDAR
