BEGIN:VCALENDAR
PRODID:-//PUBBLE//agenda//NL
VERSION:2.0
METHOD:PUBLISH
BEGIN:VEVENT
DTSTART:20260425T173000Z
DTEND:20260425T191500Z
DTSTAMP:20260420T045704Z
UID:4404b8cf-b264-458b-bd33-fe2b47690cba
CREATED:20260420T045704Z
NAME:Psalmzangavond met bovenstem hetkontakt.nl
X-WR-CALNAME:Psalmzangavond met bovenstem
X-ALT-DESC;FMTTYPE=text/html:<a href='/vijfheerenlanden/agenda/2026/4/25/psalmzangavond-met-bovenstem-459481'>/vijfheerenlanden/agenda/2026/4/25/psalmzangavond-met-bovenstem-459481</a> || <p>Niet-ritmische Psalmzangavond met bovenstem. Het thema van deze avond is: “Zo moet de Koning eeuwig leven.”&nbsp;</p><p>De samenzang wordt op het orgel begeleid door Jan Rozendaal en Arie van der Vlist. Medewerking wordt verleend door de Vereniging Bovenstem Ouderkerk aan den IJssel. De algehele leiding van deze avond is in handen van ds. A. van Voorden.&nbsp;</p><p>De toegang is gratis. De kerkdeuren gaan om 19.00 uur open. Er wordt gecollecteerd ten behoeve van de Gereformeerde Bijbelstichting (GBS).&nbsp;</p>
DESCRIPTION:<a href='/vijfheerenlanden/agenda/2026/4/25/psalmzangavond-met-bovenstem-459481'>/vijfheerenlanden/agenda/2026/4/25/psalmzangavond-met-bovenstem-459481</a> || <p>Niet-ritmische Psalmzangavond met bovenstem. Het thema van deze avond is: “Zo moet de Koning eeuwig leven.”&nbsp;</p><p>De samenzang wordt op het orgel begeleid door Jan Rozendaal en Arie van der Vlist. Medewerking wordt verleend door de Vereniging Bovenstem Ouderkerk aan den IJssel. De algehele leiding van deze avond is in handen van ds. A. van Voorden.&nbsp;</p><p>De toegang is gratis. De kerkdeuren gaan om 19.00 uur open. Er wordt gecollecteerd ten behoeve van de Gereformeerde Bijbelstichting (GBS).&nbsp;</p>
LAST-MODIFIED:20260420T045704Z
LOCATION: Grote Kerk | Kerkstraat 32 Leerdam
SEQUENCE:0
STATUS:CONFIRMED
SUMMARY:Psalmzangavond met bovenstem
TRANSP:OPAQUE
END:VEVENT
END:VCALENDAR
