BEGIN:VCALENDAR
PRODID:-//PUBBLE//agenda//NL
VERSION:2.0
METHOD:PUBLISH
BEGIN:VEVENT
DTSTART:20260424T073000Z
DTEND:20260424T090000Z
DTSTAMP:20260424T020538Z
UID:b6d98f76-f75c-4e58-bd08-3f87ece7fd5b
CREATED:20260424T020538Z
NAME:Ouder-Kind Café Ophemert hetkontakt.nl
X-WR-CALNAME:Ouder-Kind Café Ophemert
X-ALT-DESC;FMTTYPE=text/html:<a href='/westbetuwe/agenda/2026/4/24/ouder-kind-cafe-ophemert-459437'>/westbetuwe/agenda/2026/4/24/ouder-kind-cafe-ophemert-459437</a> || <p>Thema-ochtend Moeiteloos Opvoeden. Kinderen (0-4 jaar) en ouders zijn welkom in het Ouder‑Kind Café in Huis op Hemert. Een gezellige, gratis ochtend vol ontmoeting en leuke activiteiten.</p>
DESCRIPTION:<a href='/westbetuwe/agenda/2026/4/24/ouder-kind-cafe-ophemert-459437'>/westbetuwe/agenda/2026/4/24/ouder-kind-cafe-ophemert-459437</a> || <p>Thema-ochtend Moeiteloos Opvoeden. Kinderen (0-4 jaar) en ouders zijn welkom in het Ouder‑Kind Café in Huis op Hemert. Een gezellige, gratis ochtend vol ontmoeting en leuke activiteiten.</p>
LAST-MODIFIED:20260424T020538Z
LOCATION: Huis Op Hemert | Blankenburgsestraat 3 Ophemert
SEQUENCE:0
STATUS:CONFIRMED
SUMMARY:Ouder-Kind Café Ophemert
TRANSP:OPAQUE
END:VEVENT
END:VCALENDAR
