BEGIN:VCALENDAR
PRODID:-//PUBBLE//agenda//NL
VERSION:2.0
METHOD:PUBLISH
BEGIN:VEVENT
DTSTART:20260330T075948Z
DTEND:20260330T085948Z
DTSTAMP:20260424T080738Z
UID:e3868118-15c8-4a2a-bc53-49634ad5e6e1
CREATED:20260424T080738Z
NAME:Vakantie Bijbel Week hetkontakt.nl
X-WR-CALNAME:Vakantie Bijbel Week
X-ALT-DESC;FMTTYPE=text/html:<a href='/altena/agenda/2026/4/28/vakantie-bijbel-week-459318'>/altena/agenda/2026/4/28/vakantie-bijbel-week-459318</a> || <p>In de meivakantie (28, 29 en 30 april) is er weer een Vakantie Bijbel Week. Alle kinderen van de basisscholen uit Dussen zijn hiervoor van harte uitgenodigd. Het thema dit jaar is: Wereldwonder. Deelnemers luisteren naar verhalen, zingen met elkaar, spelen en knutselen, knabbelen en babbelen. Ook Bram en Britt zijn weer van de partij.</p><p>De Vakantie Bijbel Week vindt plaats in en rond het Visnet, Zuideveldlaan 10 in Dussen.</p><p>De kinderen zijn welkom op dinsdag- en woensdagochtend van 09:30 uur tot 12:00 uur en op donderdag van 14:00 uur tot 19:00 uur. Donderdag eten we met elkaar en daarna zijn de ouders, verzorgers en andere belangstellenden welkom van 18:00 uur tot 19:00 uur voor het afsluitend programma. We vragen 1 euro per dag, als bijdrage in de onkosten.</p><p>Meer informatie kunt u vinden op www.hervormddussen-hank.nl.</p>
DESCRIPTION:<a href='/altena/agenda/2026/4/28/vakantie-bijbel-week-459318'>/altena/agenda/2026/4/28/vakantie-bijbel-week-459318</a> || <p>In de meivakantie (28, 29 en 30 april) is er weer een Vakantie Bijbel Week. Alle kinderen van de basisscholen uit Dussen zijn hiervoor van harte uitgenodigd. Het thema dit jaar is: Wereldwonder. Deelnemers luisteren naar verhalen, zingen met elkaar, spelen en knutselen, knabbelen en babbelen. Ook Bram en Britt zijn weer van de partij.</p><p>De Vakantie Bijbel Week vindt plaats in en rond het Visnet, Zuideveldlaan 10 in Dussen.</p><p>De kinderen zijn welkom op dinsdag- en woensdagochtend van 09:30 uur tot 12:00 uur en op donderdag van 14:00 uur tot 19:00 uur. Donderdag eten we met elkaar en daarna zijn de ouders, verzorgers en andere belangstellenden welkom van 18:00 uur tot 19:00 uur voor het afsluitend programma. We vragen 1 euro per dag, als bijdrage in de onkosten.</p><p>Meer informatie kunt u vinden op www.hervormddussen-hank.nl.</p>
LAST-MODIFIED:20260424T080738Z
LOCATION: Het Visnet | Zuideveldlaan 10 Dussen
SEQUENCE:0
STATUS:CONFIRMED
SUMMARY:Vakantie Bijbel Week
TRANSP:OPAQUE
END:VEVENT
END:VCALENDAR
