BEGIN:VCALENDAR
PRODID:-//PUBBLE//agenda//NL
VERSION:2.0
METHOD:PUBLISH
BEGIN:VEVENT
DTSTART:20260502T070000Z
DTEND:20260502T080000Z
DTSTAMP:20260421T161318Z
UID:673a585a-5089-492f-ac61-8ee2980f676e
CREATED:20260421T161318Z
NAME:Boekenmarkt Excelsior Papendrecht hetkontakt.nl
X-WR-CALNAME:Boekenmarkt Excelsior Papendrecht
X-ALT-DESC;FMTTYPE=text/html:<a href='/klaroen/agenda/2026/5/2/boekenmarkt-excelsior-papendrecht-459312'>/klaroen/agenda/2026/5/2/boekenmarkt-excelsior-papendrecht-459312</a> || <p>Excelsior Papendrecht organiseert op zaterdag 2 mei de grootste indoor boekenmarkt van de regio. De markt is gratis toegankelijk en duurt van 09:00 tot 14:00 uur in het verenigingsgebouw aan de Rembrandtlaan 206.</p><p>Behalve boeken is er een breed aanbod aan dvd’s, lp’s en cd’s voor film- en muziekliefhebbers. Bezoekers kunnen vrijblijvend rondkijken en snuffelen tussen het diverse aanbod. De entree is gratis. Het verenigingsgebouw is bereikbaar via de schoolpleinzijde aan de Rembrandtlaan 206 in Papendrecht.</p>
DESCRIPTION:<a href='/klaroen/agenda/2026/5/2/boekenmarkt-excelsior-papendrecht-459312'>/klaroen/agenda/2026/5/2/boekenmarkt-excelsior-papendrecht-459312</a> || <p>Excelsior Papendrecht organiseert op zaterdag 2 mei de grootste indoor boekenmarkt van de regio. De markt is gratis toegankelijk en duurt van 09:00 tot 14:00 uur in het verenigingsgebouw aan de Rembrandtlaan 206.</p><p>Behalve boeken is er een breed aanbod aan dvd’s, lp’s en cd’s voor film- en muziekliefhebbers. Bezoekers kunnen vrijblijvend rondkijken en snuffelen tussen het diverse aanbod. De entree is gratis. Het verenigingsgebouw is bereikbaar via de schoolpleinzijde aan de Rembrandtlaan 206 in Papendrecht.</p>
LAST-MODIFIED:20260421T161318Z
LOCATION: Clubgebouw Excelsior | Rembrandtlaan 206 Papendrecht
SEQUENCE:0
STATUS:CONFIRMED
SUMMARY:Boekenmarkt Excelsior Papendrecht
TRANSP:OPAQUE
END:VEVENT
END:VCALENDAR
