BEGIN:VCALENDAR
PRODID:-//PUBBLE//agenda//NL
VERSION:2.0
METHOD:PUBLISH
BEGIN:VEVENT
DTSTART:20260424T080000Z
DTEND:20260427T093000Z
DTSTAMP:20260421T055210Z
UID:65a5dc72-bf35-49da-b409-ae180934556d
CREATED:20260421T055210Z
NAME:Paralympische sporters in Lienden hetkontakt.nl
X-WR-CALNAME:Paralympische sporters in Lienden
X-ALT-DESC;FMTTYPE=text/html:<a href='/tielenburen/agenda/2026/4/24/paralympische-sporters-in-lienden-459104'>/tielenburen/agenda/2026/4/24/paralympische-sporters-in-lienden-459104</a> || <p>In het teken van het <strong>Fonds Gehandicaptensport</strong> komen vrijdag 24 april 3 Paralympische sporters naar Healthclub Juliën hun inspirerende verhaal vertellen. Waar wij het vaak gewoon vinden dat we kunnen en mogen sporten, zo is dat niet voor iedereen een vanzelfsprekendheid. Het Fonds Gehandicaptensport is er om sporten voor iedereen mogelijk te maken.<br><br></p><p>Handbiker Tim de Vries, dressuurruiter Glasten Krapels en framerunner Esmee Huibers laten ons met een andere bril naar de vanzelfsprekendheid van sport en bewegen kijken.<br><br>Kijk op: www.healthclubjulien.nl/paralympische-sporters-in-lienden<br><br></p>
DESCRIPTION:<a href='/tielenburen/agenda/2026/4/24/paralympische-sporters-in-lienden-459104'>/tielenburen/agenda/2026/4/24/paralympische-sporters-in-lienden-459104</a> || <p>In het teken van het <strong>Fonds Gehandicaptensport</strong> komen vrijdag 24 april 3 Paralympische sporters naar Healthclub Juliën hun inspirerende verhaal vertellen. Waar wij het vaak gewoon vinden dat we kunnen en mogen sporten, zo is dat niet voor iedereen een vanzelfsprekendheid. Het Fonds Gehandicaptensport is er om sporten voor iedereen mogelijk te maken.<br><br></p><p>Handbiker Tim de Vries, dressuurruiter Glasten Krapels en framerunner Esmee Huibers laten ons met een andere bril naar de vanzelfsprekendheid van sport en bewegen kijken.<br><br>Kijk op: www.healthclubjulien.nl/paralympische-sporters-in-lienden<br><br></p>
LAST-MODIFIED:20260421T055210Z
LOCATION: Healthclub Juliën | Provincialeweg 16  Lienden
SEQUENCE:0
STATUS:CONFIRMED
SUMMARY:Paralympische sporters in Lienden
TRANSP:OPAQUE
END:VEVENT
END:VCALENDAR
