BEGIN:VCALENDAR
PRODID:-//PUBBLE//agenda//NL
VERSION:2.0
METHOD:PUBLISH
BEGIN:VEVENT
DTSTART:20260529T183000Z
DTEND:20260529T210000Z
DTSTAMP:20260422T075128Z
UID:0f8baf0d-63b7-4256-b6e2-6abdda41abfa
CREATED:20260422T075128Z
NAME:Franse avond met Gerard Alderliefste  hetkontakt.nl
X-WR-CALNAME:Franse avond met Gerard Alderliefste 
X-ALT-DESC;FMTTYPE=text/html:<a href='/krimpenerwaard/agenda/2026/5/29/franse-avond-met-gerard-alderliefste-459086'>/krimpenerwaard/agenda/2026/5/29/franse-avond-met-gerard-alderliefste-459086</a> || <p>Zo vlak voor de vakantieperiode brengen Gerard Alderliefst en zijn muzikale vrienden het Franse chanson tot leven. Bezoekers worden meegenomen naar een sfeervol dorpsplein in Zuid-Frankrijk, met nummers van onder anderen Julien Clerc, Michel Fugain, Gérard Lenorman en Les Poppys. Het achtkoppige gezelschap zorgt voor een muzikale avond vol herkenning, waarbij het publiek kan genieten en meezingen. Ook de horeca van Het Kwartier sluit aan met passende Franse gerechtjes tijdens dit evenement. Kaarten zijn te verkrijgen op <a href="https://www.hetkwartierstolwijk.nl" target="_blank">www.hetkwartierstolwijk.nl</a>.</p>
DESCRIPTION:<a href='/krimpenerwaard/agenda/2026/5/29/franse-avond-met-gerard-alderliefste-459086'>/krimpenerwaard/agenda/2026/5/29/franse-avond-met-gerard-alderliefste-459086</a> || <p>Zo vlak voor de vakantieperiode brengen Gerard Alderliefst en zijn muzikale vrienden het Franse chanson tot leven. Bezoekers worden meegenomen naar een sfeervol dorpsplein in Zuid-Frankrijk, met nummers van onder anderen Julien Clerc, Michel Fugain, Gérard Lenorman en Les Poppys. Het achtkoppige gezelschap zorgt voor een muzikale avond vol herkenning, waarbij het publiek kan genieten en meezingen. Ook de horeca van Het Kwartier sluit aan met passende Franse gerechtjes tijdens dit evenement. Kaarten zijn te verkrijgen op <a href="https://www.hetkwartierstolwijk.nl" target="_blank">www.hetkwartierstolwijk.nl</a>.</p>
LAST-MODIFIED:20260422T075128Z
LOCATION: Het Kwartier | Jan Steenlaan 16b Stolwijk
SEQUENCE:0
STATUS:CONFIRMED
SUMMARY:Franse avond met Gerard Alderliefste 
TRANSP:OPAQUE
END:VEVENT
END:VCALENDAR
