BEGIN:VCALENDAR
PRODID:-//PUBBLE//agenda//NL
VERSION:2.0
METHOD:PUBLISH
BEGIN:VEVENT
DTSTART:20260425T190000Z
DTEND:20260425T230000Z
DTSTAMP:20260422T082330Z
UID:ce71a109-f835-4f2e-a8f9-42253ef2cb6d
CREATED:20260422T082330Z
NAME:Nacht van Oranje  hetkontakt.nl
X-WR-CALNAME:Nacht van Oranje 
X-ALT-DESC;FMTTYPE=text/html:<a href='/krimpenerwaard/agenda/2026/4/25/nacht-van-oranje-459085'>/krimpenerwaard/agenda/2026/4/25/nacht-van-oranje-459085</a> || <p>De Nacht van Oranje is uitgegroeid tot een van de populairste evenementen in Het Kwartier. De band The Roustabouts verzorgt dit jaar een optreden en zorgt voor een feestelijke opwarmer richting Koningsdag. De toegang is gratis.</p>
DESCRIPTION:<a href='/krimpenerwaard/agenda/2026/4/25/nacht-van-oranje-459085'>/krimpenerwaard/agenda/2026/4/25/nacht-van-oranje-459085</a> || <p>De Nacht van Oranje is uitgegroeid tot een van de populairste evenementen in Het Kwartier. De band The Roustabouts verzorgt dit jaar een optreden en zorgt voor een feestelijke opwarmer richting Koningsdag. De toegang is gratis.</p>
LAST-MODIFIED:20260422T082330Z
LOCATION: Het Kwartier | Jan Steenlaan 16b Stolwijk
SEQUENCE:0
STATUS:CONFIRMED
SUMMARY:Nacht van Oranje 
TRANSP:OPAQUE
END:VEVENT
END:VCALENDAR
