BEGIN:VCALENDAR
PRODID:-//PUBBLE//agenda//NL
VERSION:2.0
METHOD:PUBLISH
BEGIN:VEVENT
DTSTART:20260424T120000Z
DTEND:20260424T133000Z
DTSTAMP:20260422T075207Z
UID:554f4225-b7c4-4c20-8348-1219eea2960d
CREATED:20260422T075207Z
NAME:Muziekmiddag hetkontakt.nl
X-WR-CALNAME:Muziekmiddag
X-ALT-DESC;FMTTYPE=text/html:<a href='/krimpenerwaard/agenda/2026/4/24/muziekmiddag-459048'>/krimpenerwaard/agenda/2026/4/24/muziekmiddag-459048</a> || <p>Een muziekmiddag georganiseerd door amateurmuzikanten. Bezoekers kunnen genieten van een verscheidenheid aan genres.</p>
DESCRIPTION:<a href='/krimpenerwaard/agenda/2026/4/24/muziekmiddag-459048'>/krimpenerwaard/agenda/2026/4/24/muziekmiddag-459048</a> || <p>Een muziekmiddag georganiseerd door amateurmuzikanten. Bezoekers kunnen genieten van een verscheidenheid aan genres.</p>
LAST-MODIFIED:20260422T075207Z
LOCATION: De Buurtschuur | Tiendweg-West 12 Lekkerkerk
SEQUENCE:0
STATUS:CONFIRMED
SUMMARY:Muziekmiddag
TRANSP:OPAQUE
END:VEVENT
END:VCALENDAR
