BEGIN:VCALENDAR
PRODID:-//PUBBLE//agenda//NL
VERSION:2.0
METHOD:PUBLISH
BEGIN:VEVENT
DTSTART:20260423T180000Z
DTEND:20260423T200000Z
DTSTAMP:20260422T075129Z
UID:0bece409-89c4-43f1-a175-b351b997ca61
CREATED:20260422T075129Z
NAME:Voorjaarsconcert ‘Dwars door het dierenrijk’ hetkontakt.nl
X-WR-CALNAME:Voorjaarsconcert ‘Dwars door het dierenrijk’
X-ALT-DESC;FMTTYPE=text/html:<a href='/krimpenerwaard/agenda/2026/4/23/voorjaarsconcert-dwars-door-het-dierenrijk-458967'>/krimpenerwaard/agenda/2026/4/23/voorjaarsconcert-dwars-door-het-dierenrijk-458967</a> || <p>Het jaarlijkse voorjaarsconcert van Huismuziek Krimpenerwaard staat dit keer in het teken van dieren. Op het programma onder meer stampende olifanten, duellerende katten, dansende wolven, een verliefde vlinder en werken van Händel, Fauré, Saint-Saens en Rossini. Zowel de Speelgroep als het Renaissance Blokfluitconsort spelen. Tussendoor zijn er korte dierenverhalen. Er is een pauze met koffie en thee tegen contante betaling. De toegang is gratis, een vrijwillige bijdrage wordt op prijs gesteld.<br /></p>
DESCRIPTION:<a href='/krimpenerwaard/agenda/2026/4/23/voorjaarsconcert-dwars-door-het-dierenrijk-458967'>/krimpenerwaard/agenda/2026/4/23/voorjaarsconcert-dwars-door-het-dierenrijk-458967</a> || <p>Het jaarlijkse voorjaarsconcert van Huismuziek Krimpenerwaard staat dit keer in het teken van dieren. Op het programma onder meer stampende olifanten, duellerende katten, dansende wolven, een verliefde vlinder en werken van Händel, Fauré, Saint-Saens en Rossini. Zowel de Speelgroep als het Renaissance Blokfluitconsort spelen. Tussendoor zijn er korte dierenverhalen. Er is een pauze met koffie en thee tegen contante betaling. De toegang is gratis, een vrijwillige bijdrage wordt op prijs gesteld.<br /></p>
LAST-MODIFIED:20260422T075129Z
LOCATION: De Wingerd | Populierenlaan 90A Krimpen a/d IJssel
SEQUENCE:0
STATUS:CONFIRMED
SUMMARY:Voorjaarsconcert ‘Dwars door het dierenrijk’
TRANSP:OPAQUE
END:VEVENT
END:VCALENDAR
