BEGIN:VCALENDAR
PRODID:-//PUBBLE//agenda//NL
VERSION:2.0
METHOD:PUBLISH
BEGIN:VEVENT
DTSTART:20260421T123000Z
DTEND:20260421T133000Z
DTSTAMP:20260421T090733Z
UID:cf1fb17a-dccd-45a9-b663-6c6353d603a2
CREATED:20260421T090733Z
NAME:Informatieve bijeenkomst ANBO/PCOB hetkontakt.nl
X-WR-CALNAME:Informatieve bijeenkomst ANBO/PCOB
X-ALT-DESC;FMTTYPE=text/html:<a href='/westbetuwe/agenda/2026/4/21/informatieve-bijeenkomst-anbo-pcob-458935'>/westbetuwe/agenda/2026/4/21/informatieve-bijeenkomst-anbo-pcob-458935</a> || <p>Afdeling Lingewaal van de ANBO/PCOB organiseert op dinsdag 21 april aanstaande een informatiemiddag over palliatieve zorg. Een actueel onderwerp dat leeft onder de mensen, en zal behandeld worden door een verpleegkundige. De middag begint om 14:30 uur. Zaal open om 14:00 uur.</p>
DESCRIPTION:<a href='/westbetuwe/agenda/2026/4/21/informatieve-bijeenkomst-anbo-pcob-458935'>/westbetuwe/agenda/2026/4/21/informatieve-bijeenkomst-anbo-pcob-458935</a> || <p>Afdeling Lingewaal van de ANBO/PCOB organiseert op dinsdag 21 april aanstaande een informatiemiddag over palliatieve zorg. Een actueel onderwerp dat leeft onder de mensen, en zal behandeld worden door een verpleegkundige. De middag begint om 14:30 uur. Zaal open om 14:00 uur.</p>
LAST-MODIFIED:20260421T090733Z
LOCATION: Gebouw Salem | Voorstraat 3 Asperen
SEQUENCE:0
STATUS:CONFIRMED
SUMMARY:Informatieve bijeenkomst ANBO/PCOB
TRANSP:OPAQUE
END:VEVENT
END:VCALENDAR
