BEGIN:VCALENDAR
PRODID:-//PUBBLE//agenda//NL
VERSION:2.0
METHOD:PUBLISH
BEGIN:VEVENT
DTSTART:20260424T083000Z
DTEND:20260424T100000Z
DTSTAMP:20260424T015955Z
UID:54b08607-f091-4f8c-bc34-7968855fd2f3
CREATED:20260424T015955Z
NAME:Koffie en kids, een gezellige ontmoeting hetkontakt.nl
X-WR-CALNAME:Koffie en kids, een gezellige ontmoeting
X-ALT-DESC;FMTTYPE=text/html:<a href='/tielenburen/agenda/2026/4/24/koffie-en-kids-een-gezellige-ontmoeting-458634'>/tielenburen/agenda/2026/4/24/koffie-en-kids-een-gezellige-ontmoeting-458634</a> || <p>Elke laatste vrijdag van de maand kun je in de bibliotheek in Lienden gezellig aanschuiven met of zonder je kinderen. We organiseren een laagdrempelige ontmoeting tussen ouders en kinderen. De koffie en thee staan klaar en ervaringen worden gedeeld.</p><p>deze keer starten we met een klein knutselwerkje voor de kleintjes in het kader van Koningsdag.</p>
DESCRIPTION:<a href='/tielenburen/agenda/2026/4/24/koffie-en-kids-een-gezellige-ontmoeting-458634'>/tielenburen/agenda/2026/4/24/koffie-en-kids-een-gezellige-ontmoeting-458634</a> || <p>Elke laatste vrijdag van de maand kun je in de bibliotheek in Lienden gezellig aanschuiven met of zonder je kinderen. We organiseren een laagdrempelige ontmoeting tussen ouders en kinderen. De koffie en thee staan klaar en ervaringen worden gedeeld.</p><p>deze keer starten we met een klein knutselwerkje voor de kleintjes in het kader van Koningsdag.</p>
LAST-MODIFIED:20260424T015955Z
LOCATION: Bibliotheek Lienden | Blommeland 14 Lienden
SEQUENCE:0
STATUS:CONFIRMED
SUMMARY:Koffie en kids, een gezellige ontmoeting
TRANSP:OPAQUE
END:VEVENT
END:VCALENDAR
