BEGIN:VCALENDAR
PRODID:-//PUBBLE//agenda//NL
VERSION:2.0
METHOD:PUBLISH
BEGIN:VEVENT
DTSTART:20260514T080000Z
DTEND:20260514T090000Z
DTSTAMP:20260421T071105Z
UID:8c231218-7f5d-4d54-bf66-42127492902f
CREATED:20260421T071105Z
NAME:Gratis juridisch inloopspreekuur hetkontakt.nl
X-WR-CALNAME:Gratis juridisch inloopspreekuur
X-ALT-DESC;FMTTYPE=text/html:<a href='/tielenburen/agenda/2026/5/14/gratis-juridisch-inloopspreekuur-458236'>/tielenburen/agenda/2026/5/14/gratis-juridisch-inloopspreekuur-458236</a> || <p>Jumelet Advocaten houdt eens in de twee weken (donderdag, even weken) een gratis juridisch inloopspreekuur. Bijvoorbeeld over arbeidsrecht, burenrecht, contractenrecht en huurrecht. Lid zijn van de bibliotheek is niet nodig. Aanmelden is niet nodig, mag wel: 06-43545193 en/of per e-mail:&nbsp;info@jumelet.nl&nbsp;/&nbsp;<a href="http://www.jumelet.nl/" title="http://www.jumelet.nl" target="_blank">www.jumelet.nl</a></p>
DESCRIPTION:<a href='/tielenburen/agenda/2026/5/14/gratis-juridisch-inloopspreekuur-458236'>/tielenburen/agenda/2026/5/14/gratis-juridisch-inloopspreekuur-458236</a> || <p>Jumelet Advocaten houdt eens in de twee weken (donderdag, even weken) een gratis juridisch inloopspreekuur. Bijvoorbeeld over arbeidsrecht, burenrecht, contractenrecht en huurrecht. Lid zijn van de bibliotheek is niet nodig. Aanmelden is niet nodig, mag wel: 06-43545193 en/of per e-mail:&nbsp;info@jumelet.nl&nbsp;/&nbsp;<a href="http://www.jumelet.nl/" title="http://www.jumelet.nl" target="_blank">www.jumelet.nl</a></p>
LAST-MODIFIED:20260421T071105Z
LOCATION: Bibliotheek | Rechtbankstraat 3 Tiel
SEQUENCE:0
STATUS:CONFIRMED
SUMMARY:Gratis juridisch inloopspreekuur
TRANSP:OPAQUE
END:VEVENT
END:VCALENDAR
