BEGIN:VCALENDAR
PRODID:-//PUBBLE//agenda//NL
VERSION:2.0
METHOD:PUBLISH
BEGIN:VEVENT
DTSTART:20260425T080000Z
DTEND:20260425T120000Z
DTSTAMP:20260425T022542Z
UID:99c648ec-ccfe-4683-b6cc-2cf33b84bb07
CREATED:20260425T022542Z
NAME:Repair Café Geldermalsen hetkontakt.nl
X-WR-CALNAME:Repair Café Geldermalsen
X-ALT-DESC;FMTTYPE=text/html:<a href='/westbetuwe/agenda/2026/4/25/repair-cafe-geldermalsen-458087'>/westbetuwe/agenda/2026/4/25/repair-cafe-geldermalsen-458087</a> || <p>Op zaterdag 25 april is iedereen tussen 10:00 en 14:00 uur welkom bij het Repair Café in Bibliotheek De Pluk in Geldermalsen. Handige vrijwilligers helpen met kapotte spullen en textiel. Denk aan een koffiezetapparaat, lamp, stofzuiger, speelgoed of een scheur in je broek. Niet alles is te repareren, maar vaak meer dan je denkt. En samen repareren is leuk én leerzaam. <br /><br />Aanmelden kan via repaircafe@duurzaamwestbetuwe.nl of 06-1830 03 47. Meer info op www.duurzaamwestbetuwe.nl</p>
DESCRIPTION:<a href='/westbetuwe/agenda/2026/4/25/repair-cafe-geldermalsen-458087'>/westbetuwe/agenda/2026/4/25/repair-cafe-geldermalsen-458087</a> || <p>Op zaterdag 25 april is iedereen tussen 10:00 en 14:00 uur welkom bij het Repair Café in Bibliotheek De Pluk in Geldermalsen. Handige vrijwilligers helpen met kapotte spullen en textiel. Denk aan een koffiezetapparaat, lamp, stofzuiger, speelgoed of een scheur in je broek. Niet alles is te repareren, maar vaak meer dan je denkt. En samen repareren is leuk én leerzaam. <br /><br />Aanmelden kan via repaircafe@duurzaamwestbetuwe.nl of 06-1830 03 47. Meer info op www.duurzaamwestbetuwe.nl</p>
LAST-MODIFIED:20260425T022542Z
LOCATION: bibliotheek De Pluk | Rijksstraatweg 65 Geldermalsen
SEQUENCE:0
STATUS:CONFIRMED
SUMMARY:Repair Café Geldermalsen
TRANSP:OPAQUE
END:VEVENT
END:VCALENDAR
