BEGIN:VCALENDAR
PRODID:-//PUBBLE//agenda//NL
VERSION:2.0
METHOD:PUBLISH
BEGIN:VEVENT
DTSTART:20260423T110000Z
DTEND:20260423T130000Z
DTSTAMP:20260423T112024Z
UID:1867f4af-9e41-404b-a9dd-ebd9878063a2
CREATED:20260423T112024Z
NAME:Inloopspreekuur: Hulp en advies bij ouder worden hetkontakt.nl
X-WR-CALNAME:Inloopspreekuur: Hulp en advies bij ouder worden
X-ALT-DESC;FMTTYPE=text/html:<a href='/westbetuwe/agenda/2026/4/23/inloopspreekuur-hulp-en-advies-bij-ouder-worden-458053'>/westbetuwe/agenda/2026/4/23/inloopspreekuur-hulp-en-advies-bij-ouder-worden-458053</a> || <p>Vragen over het ouder worden of over de ondersteuning voor een dierbare? Bezoek dan dit gratis inloopspreekuur in De Pluk. Iedereen is welkom tussen 13:00 en 15:00 uur. Tijdens het spreekuur kunnen bezoekers vrijblijvend in gesprek met deskundigen die persoonlijk advies geven over:&nbsp;verschillende woonmogelijkheden bij het ouder worden, het gebruik van (digitale) hulpmiddelen die kunnen ondersteunen in het dagelijks leven en andere vormen van zorg of begeleiding die passen bij de situatie.&nbsp;Aanmelden is niet nodig. Meer informatie 0900 8433 of info@santepartners.nl.</p>
DESCRIPTION:<a href='/westbetuwe/agenda/2026/4/23/inloopspreekuur-hulp-en-advies-bij-ouder-worden-458053'>/westbetuwe/agenda/2026/4/23/inloopspreekuur-hulp-en-advies-bij-ouder-worden-458053</a> || <p>Vragen over het ouder worden of over de ondersteuning voor een dierbare? Bezoek dan dit gratis inloopspreekuur in De Pluk. Iedereen is welkom tussen 13:00 en 15:00 uur. Tijdens het spreekuur kunnen bezoekers vrijblijvend in gesprek met deskundigen die persoonlijk advies geven over:&nbsp;verschillende woonmogelijkheden bij het ouder worden, het gebruik van (digitale) hulpmiddelen die kunnen ondersteunen in het dagelijks leven en andere vormen van zorg of begeleiding die passen bij de situatie.&nbsp;Aanmelden is niet nodig. Meer informatie 0900 8433 of info@santepartners.nl.</p>
LAST-MODIFIED:20260423T112024Z
LOCATION: De Pluk Geldermalsen | Rijksstraatweg  Geldermalsen
SEQUENCE:0
STATUS:CONFIRMED
SUMMARY:Inloopspreekuur: Hulp en advies bij ouder worden
TRANSP:OPAQUE
END:VEVENT
END:VCALENDAR
