BEGIN:VCALENDAR
PRODID:-//PUBBLE//agenda//NL
VERSION:2.0
METHOD:PUBLISH
BEGIN:VEVENT
DTSTART:20260424T080000Z
DTEND:20260424T100000Z
DTSTAMP:20260422T065154Z
UID:ef868f3f-6f4c-4613-8116-25db6b0e05e0
CREATED:20260422T065154Z
NAME:Verhalencafé ‘Krimpen terug in de schoolbank’ hetkontakt.nl
X-WR-CALNAME:Verhalencafé ‘Krimpen terug in de schoolbank’
X-ALT-DESC;FMTTYPE=text/html:<a href='/krimpenerwaard/agenda/2026/4/24/verhalencafe-krimpen-terug-in-de-schoolbank-457940'>/krimpenerwaard/agenda/2026/4/24/verhalencafe-krimpen-terug-in-de-schoolbank-457940</a> || <p>Samen herinneringen ophalen aan de lagere en middelbare schooltijd in Krimpen aan den IJssel. Van de in totaal 58 schoollocaties in het dorp zijn er inmiddels veel verdwenen, maar herinneringen en verhalen blijven bestaan. Er is gelegenheid om aan te schuiven voor koffie en iets lekkers en gezamenlijk herinneringen op te halen. Op deze manier wordt het verhaal van het Krimpense onderwijs verder aangevuld. Mogelijk worden ook oud-klasgenoten ontmoet. Het meenemen van klassenfoto’s en schoolfoto’s wordt op prijs gesteld. Inloop met koffie vanaf 10.00 uur. Aanmelden is niet nodig; de bijeenkomst is vrij toegankelijk.</p>
DESCRIPTION:<a href='/krimpenerwaard/agenda/2026/4/24/verhalencafe-krimpen-terug-in-de-schoolbank-457940'>/krimpenerwaard/agenda/2026/4/24/verhalencafe-krimpen-terug-in-de-schoolbank-457940</a> || <p>Samen herinneringen ophalen aan de lagere en middelbare schooltijd in Krimpen aan den IJssel. Van de in totaal 58 schoollocaties in het dorp zijn er inmiddels veel verdwenen, maar herinneringen en verhalen blijven bestaan. Er is gelegenheid om aan te schuiven voor koffie en iets lekkers en gezamenlijk herinneringen op te halen. Op deze manier wordt het verhaal van het Krimpense onderwijs verder aangevuld. Mogelijk worden ook oud-klasgenoten ontmoet. Het meenemen van klassenfoto’s en schoolfoto’s wordt op prijs gesteld. Inloop met koffie vanaf 10.00 uur. Aanmelden is niet nodig; de bijeenkomst is vrij toegankelijk.</p>
LAST-MODIFIED:20260422T065154Z
LOCATION: Theater De Tuyter | Nachtegaalstraat 8 Krimpen a/d IJssel
SEQUENCE:0
STATUS:CONFIRMED
SUMMARY:Verhalencafé ‘Krimpen terug in de schoolbank’
TRANSP:OPAQUE
END:VEVENT
END:VCALENDAR
