BEGIN:VCALENDAR
PRODID:-//PUBBLE//agenda//NL
VERSION:2.0
METHOD:PUBLISH
BEGIN:VEVENT
DTSTART:20260423T180000Z
DTEND:20260423T190000Z
DTSTAMP:20260422T075207Z
UID:bd4c92f0-f4ef-45f4-b3f2-90fb07f7f77c
CREATED:20260422T075207Z
NAME:Filmvertoning Bergambacht 1952 hetkontakt.nl
X-WR-CALNAME:Filmvertoning Bergambacht 1952
X-ALT-DESC;FMTTYPE=text/html:<a href='/krimpenerwaard/agenda/2026/4/23/filmvertoning-bergambacht-1952-456832'>/krimpenerwaard/agenda/2026/4/23/filmvertoning-bergambacht-1952-456832</a> || <p>De Historische Vereniging Bergambacht vertoont de film die muziekvereniging Excelsior in 1952 over Bergambacht liet maken. Het resultaat is een uniek tijdsbeeld. De film raakte lange tijd in vergetelheid, maar is onlangs teruggevonden en gedigitaliseerd. Aanmelden is verplicht en kan via de agenda op <a href="www.debibliotheekkrimpenerwaard.nl" target="_blank">www.debibliotheekkrimpenerwaard.nl</a>.&nbsp;Kosten: 5 euro.</p>
DESCRIPTION:<a href='/krimpenerwaard/agenda/2026/4/23/filmvertoning-bergambacht-1952-456832'>/krimpenerwaard/agenda/2026/4/23/filmvertoning-bergambacht-1952-456832</a> || <p>De Historische Vereniging Bergambacht vertoont de film die muziekvereniging Excelsior in 1952 over Bergambacht liet maken. Het resultaat is een uniek tijdsbeeld. De film raakte lange tijd in vergetelheid, maar is onlangs teruggevonden en gedigitaliseerd. Aanmelden is verplicht en kan via de agenda op <a href="www.debibliotheekkrimpenerwaard.nl" target="_blank">www.debibliotheekkrimpenerwaard.nl</a>.&nbsp;Kosten: 5 euro.</p>
LAST-MODIFIED:20260422T075207Z
LOCATION: Bibliotheek | Pleinstraat 4 Bergambacht
SEQUENCE:0
STATUS:CONFIRMED
SUMMARY:Filmvertoning Bergambacht 1952
TRANSP:OPAQUE
END:VEVENT
END:VCALENDAR
