BEGIN:VCALENDAR
PRODID:-//PUBBLE//agenda//NL
VERSION:2.0
METHOD:PUBLISH
BEGIN:VEVENT
DTSTART:20260514T203000Z
DTEND:20260513T230000Z
DTSTAMP:20260422T075207Z
UID:229757eb-9269-4046-9879-69cb35c95a77
CREATED:20260422T075207Z
NAME:Historische filmochtend hetkontakt.nl
X-WR-CALNAME:Historische filmochtend
X-ALT-DESC;FMTTYPE=text/html:<a href='/krimpenerwaard/agenda/2026/5/14/historische-filmochtend-456829'>/krimpenerwaard/agenda/2026/5/14/historische-filmochtend-456829</a> || <p>Elke tweede donderdag van de maand wordt in het Historisch OntmoetingsPunt in de bibliotheek van Schoonhoven een filmvertoning gehouden op groot scherm over de geschiedenis van Schoonhoven en omgeving. Tijdens deze editie worden onder meer beelden getoond van twee Bartholomeusdagen uit 1987 en 1994, evenals een compilatie over Schoonhovenaren uit de periode 1925–1965. De toegang is gratis en vooraf aanmelden is niet nodig.</p>
DESCRIPTION:<a href='/krimpenerwaard/agenda/2026/5/14/historische-filmochtend-456829'>/krimpenerwaard/agenda/2026/5/14/historische-filmochtend-456829</a> || <p>Elke tweede donderdag van de maand wordt in het Historisch OntmoetingsPunt in de bibliotheek van Schoonhoven een filmvertoning gehouden op groot scherm over de geschiedenis van Schoonhoven en omgeving. Tijdens deze editie worden onder meer beelden getoond van twee Bartholomeusdagen uit 1987 en 1994, evenals een compilatie over Schoonhovenaren uit de periode 1925–1965. De toegang is gratis en vooraf aanmelden is niet nodig.</p>
LAST-MODIFIED:20260422T075207Z
LOCATION: Bibliotheek | Bergambachterstraat 9 Schoonhoven
SEQUENCE:0
STATUS:CONFIRMED
SUMMARY:Historische filmochtend
TRANSP:OPAQUE
END:VEVENT
END:VCALENDAR
