BEGIN:VCALENDAR
PRODID:-//PUBBLE//agenda//NL
VERSION:2.0
METHOD:PUBLISH
BEGIN:VEVENT
DTSTART:20260306T080000Z
DTEND:20260306T090000Z
DTSTAMP:20260422T090602Z
UID:1b31b0d7-42f3-4328-b9f5-737fbf2774a1
CREATED:20260422T090602Z
NAME:Digitaal Café hetkontakt.nl
X-WR-CALNAME:Digitaal Café
X-ALT-DESC;FMTTYPE=text/html:<a href='/krimpenerwaard/agenda/2026/3/6/digitaal-cafe-456342'>/krimpenerwaard/agenda/2026/3/6/digitaal-cafe-456342</a> || <p>Digitaal Café voor vragen over bijvoorbeeld telefoon, tablet of computer. Een vrijwilliger is aanwezig om te helpen. Er zijn geen kosten aan verbonden.&nbsp;</p>
DESCRIPTION:<a href='/krimpenerwaard/agenda/2026/3/6/digitaal-cafe-456342'>/krimpenerwaard/agenda/2026/3/6/digitaal-cafe-456342</a> || <p>Digitaal Café voor vragen over bijvoorbeeld telefoon, tablet of computer. Een vrijwilliger is aanwezig om te helpen. Er zijn geen kosten aan verbonden.&nbsp;</p>
LAST-MODIFIED:20260422T090602Z
LOCATION: Ontmoetingswinkel De Koster | Goudseweg 3 Stolwijk
SEQUENCE:0
STATUS:CONFIRMED
SUMMARY:Digitaal Café
TRANSP:OPAQUE
END:VEVENT
END:VCALENDAR
