BEGIN:VCALENDAR
PRODID:-//PUBBLE//agenda//NL
VERSION:2.0
METHOD:PUBLISH
BEGIN:VEVENT
DTSTART:20260306T073000Z
DTEND:20260306T083000Z
DTSTAMP:20260422T090614Z
UID:06d304ae-2673-477f-a8f7-1344d9e05755
CREATED:20260422T090614Z
NAME:Kleding Repair hetkontakt.nl
X-WR-CALNAME:Kleding Repair
X-ALT-DESC;FMTTYPE=text/html:<a href='/krimpenerwaard/agenda/2026/3/6/kleding-repair-456339'>/krimpenerwaard/agenda/2026/3/6/kleding-repair-456339</a> || <p>Hulp bij kleine kledingreparaties. Gratis koffie/thee.</p>
DESCRIPTION:<a href='/krimpenerwaard/agenda/2026/3/6/kleding-repair-456339'>/krimpenerwaard/agenda/2026/3/6/kleding-repair-456339</a> || <p>Hulp bij kleine kledingreparaties. Gratis koffie/thee.</p>
LAST-MODIFIED:20260422T090614Z
LOCATION: Ontmoetingswinkel De Koster | Goudseweg 3 Stolwijk
SEQUENCE:0
STATUS:CONFIRMED
SUMMARY:Kleding Repair
TRANSP:OPAQUE
END:VEVENT
END:VCALENDAR
