BEGIN:VCALENDAR
PRODID:-//PUBBLE//agenda//NL
VERSION:2.0
METHOD:PUBLISH
BEGIN:VEVENT
DTSTART:20260306T073000Z
DTEND:20260306T083000Z
DTSTAMP:20260422T090613Z
UID:aa93789e-9501-4b56-929e-f5cdf5b5f2b4
CREATED:20260422T090613Z
NAME:Repair Café hetkontakt.nl
X-WR-CALNAME:Repair Café
X-ALT-DESC;FMTTYPE=text/html:<a href='/krimpenerwaard/agenda/2026/3/6/repair-cafe-456338'>/krimpenerwaard/agenda/2026/3/6/repair-cafe-456338</a> || <p>Reparatie van kleine huishoudelijke apparaten, klokken en speelgoed. Gratis koffie/thee.</p>
DESCRIPTION:<a href='/krimpenerwaard/agenda/2026/3/6/repair-cafe-456338'>/krimpenerwaard/agenda/2026/3/6/repair-cafe-456338</a> || <p>Reparatie van kleine huishoudelijke apparaten, klokken en speelgoed. Gratis koffie/thee.</p>
LAST-MODIFIED:20260422T090613Z
LOCATION: Ontmoetingswinkel De Koster | Goudseweg 3 Stolwijk
SEQUENCE:0
STATUS:CONFIRMED
SUMMARY:Repair Café
TRANSP:OPAQUE
END:VEVENT
END:VCALENDAR
