BEGIN:VCALENDAR
PRODID:-//PUBBLE//agenda//NL
VERSION:2.0
METHOD:PUBLISH
BEGIN:VEVENT
DTSTART:20260403T080000Z
DTEND:20260925T160000Z
DTSTAMP:20260422T002804Z
UID:77c45dbc-01c3-4f04-b409-b79ebdcbc427
CREATED:20260422T002804Z
NAME:atelier bezoek kunst en keramiek hetkontakt.nl
X-WR-CALNAME:atelier bezoek kunst en keramiek
X-ALT-DESC;FMTTYPE=text/html:<a href='/alblasserwaard/agenda/2026/4/3/atelier-bezoek-kunst-en-keramiek-456031'>/alblasserwaard/agenda/2026/4/3/atelier-bezoek-kunst-en-keramiek-456031</a> || <p>Iedere vrijdag van 3 april tot 19 september is het atelier van beeldend kunstenaar Jolanda en keramist Wil Riedijk geopend voor publiek. Geïnteresseerden zijn tussen 10.00 en 18.00 uur van harte welkom voor bezoek van het atelier alsmede de bijbehorende expositie.</p><p>U krijgt de gelegenheid het werk van dichtbij te bezichtigen en kennis te maken met het werkproces. Kunst en keramiek staan centraal, waarbij ambacht, vorm en expressie samenkomen in een zorgvuldig opgebouwd geheel.</p><p>De openstelling richt zich op liefhebbers van kunst en keramiek die het werk willen ervaren in een inspirerende en authentieke atelieromgeving.</p><p>Alleen wandelend bereikbaar&nbsp;</p>
DESCRIPTION:<a href='/alblasserwaard/agenda/2026/4/3/atelier-bezoek-kunst-en-keramiek-456031'>/alblasserwaard/agenda/2026/4/3/atelier-bezoek-kunst-en-keramiek-456031</a> || <p>Iedere vrijdag van 3 april tot 19 september is het atelier van beeldend kunstenaar Jolanda en keramist Wil Riedijk geopend voor publiek. Geïnteresseerden zijn tussen 10.00 en 18.00 uur van harte welkom voor bezoek van het atelier alsmede de bijbehorende expositie.</p><p>U krijgt de gelegenheid het werk van dichtbij te bezichtigen en kennis te maken met het werkproces. Kunst en keramiek staan centraal, waarbij ambacht, vorm en expressie samenkomen in een zorgvuldig opgebouwd geheel.</p><p>De openstelling richt zich op liefhebbers van kunst en keramiek die het werk willen ervaren in een inspirerende en authentieke atelieromgeving.</p><p>Alleen wandelend bereikbaar&nbsp;</p>
LAST-MODIFIED:20260422T002804Z
LOCATION: A(r)telier Jolanda Riedijk Beeldend Kunstenaar | Abbekesdoel 93B 938 Bleskensgraaf
SEQUENCE:0
STATUS:CONFIRMED
SUMMARY:atelier bezoek kunst en keramiek
TRANSP:OPAQUE
END:VEVENT
END:VCALENDAR
