BEGIN:VCALENDAR
PRODID:-//PUBBLE//agenda//NL
VERSION:2.0
METHOD:PUBLISH
BEGIN:VEVENT
DTSTART:20260505T094500Z
DTEND:20260505T110000Z
DTSTAMP:20260422T002708Z
UID:92cef9ee-871f-4915-a000-38cb7c95600c
CREATED:20260422T002708Z
NAME:Vrijheidslunch Hoornaar hetkontakt.nl
X-WR-CALNAME:Vrijheidslunch Hoornaar
X-ALT-DESC;FMTTYPE=text/html:<a href='/alblasserwaard/agenda/2026/5/5/vrijheidslunch-hoornaar-455823'>/alblasserwaard/agenda/2026/5/5/vrijheidslunch-hoornaar-455823</a> || <p>In Nederland kunnen we vieren dat we in vrijheid leven. Maar vrijheid is nooit vanzelfsprekend. Alleen als we elkaar echt blijven ontmoeten kan vrijheid blijven bestaan.</p><p>Daarom gaan we op 5 mei in heel Nederland - en dus óók in Hoornaar - met elkaar aan tafel.</p><p>De Dorpsraad, het Ouderen comité en De Zes Molens hebben de handen ineen geslagen om voor u een gratis vrijheidsmaaltijd uit te serveren. De eenvoudige lunch, zal op de rotonde voor De Zes Molens plaatsvinden.&nbsp; De lunch vindt dus buiten plaats, houdt rekening met de temperatuur! Neemt u een eigen soepkom mee?</p><p>Graag vooraf aanmelden bij <a href="mailto:info@dorpsraad-hoornaar.nl">info@dorpsraad-hoornaar.nl</a> of j.berkhout@delangewei.nl<a href="mailto:j.berkhout@delangewei.nl"></a></p>
DESCRIPTION:<a href='/alblasserwaard/agenda/2026/5/5/vrijheidslunch-hoornaar-455823'>/alblasserwaard/agenda/2026/5/5/vrijheidslunch-hoornaar-455823</a> || <p>In Nederland kunnen we vieren dat we in vrijheid leven. Maar vrijheid is nooit vanzelfsprekend. Alleen als we elkaar echt blijven ontmoeten kan vrijheid blijven bestaan.</p><p>Daarom gaan we op 5 mei in heel Nederland - en dus óók in Hoornaar - met elkaar aan tafel.</p><p>De Dorpsraad, het Ouderen comité en De Zes Molens hebben de handen ineen geslagen om voor u een gratis vrijheidsmaaltijd uit te serveren. De eenvoudige lunch, zal op de rotonde voor De Zes Molens plaatsvinden.&nbsp; De lunch vindt dus buiten plaats, houdt rekening met de temperatuur! Neemt u een eigen soepkom mee?</p><p>Graag vooraf aanmelden bij <a href="mailto:info@dorpsraad-hoornaar.nl">info@dorpsraad-hoornaar.nl</a> of j.berkhout@delangewei.nl<a href="mailto:j.berkhout@delangewei.nl"></a></p>
LAST-MODIFIED:20260422T002708Z
LOCATION: De Zes Molens | De zes molens 2 Hoornaar
SEQUENCE:0
STATUS:CONFIRMED
SUMMARY:Vrijheidslunch Hoornaar
TRANSP:OPAQUE
END:VEVENT
END:VCALENDAR
