BEGIN:VCALENDAR
PRODID:-//PUBBLE//agenda//NL
VERSION:2.0
METHOD:PUBLISH
BEGIN:VEVENT
DTSTART:20260227T080000Z
DTEND:20260227T090000Z
DTSTAMP:20260421T163750Z
UID:a44cde19-1a3f-409d-843f-e5f7fbaf938b
CREATED:20260421T163750Z
NAME:Ontmoetingstafel hetkontakt.nl
X-WR-CALNAME:Ontmoetingstafel
X-ALT-DESC;FMTTYPE=text/html:<a href='/krimpenerwaard/agenda/2026/2/27/ontmoetingstafel-455411'>/krimpenerwaard/agenda/2026/2/27/ontmoetingstafel-455411</a> || <p>Elke dinsdagochtend opent La Retraite haar deuren voor een gezellige ochtend samen. Aan de ontmoetingstafel kan worden genoten van een kopje koffie of thee met een huisgemaakt gebakje voor 5 euro. Een mooie gelegenheid om nieuwe mensen te ontmoeten, bij te praten en samen te genieten in een warme en ontspannen sfeer. Let op: deze aanbieding geldt uitsluitend voor de ontmoetingstafel.</p>
DESCRIPTION:<a href='/krimpenerwaard/agenda/2026/2/27/ontmoetingstafel-455411'>/krimpenerwaard/agenda/2026/2/27/ontmoetingstafel-455411</a> || <p>Elke dinsdagochtend opent La Retraite haar deuren voor een gezellige ochtend samen. Aan de ontmoetingstafel kan worden genoten van een kopje koffie of thee met een huisgemaakt gebakje voor 5 euro. Een mooie gelegenheid om nieuwe mensen te ontmoeten, bij te praten en samen te genieten in een warme en ontspannen sfeer. Let op: deze aanbieding geldt uitsluitend voor de ontmoetingstafel.</p>
LAST-MODIFIED:20260421T163750Z
LOCATION: La Retraite | De Korf 21 Krimpen aan den IJssel
SEQUENCE:0
STATUS:CONFIRMED
SUMMARY:Ontmoetingstafel
TRANSP:OPAQUE
END:VEVENT
END:VCALENDAR
