BEGIN:VCALENDAR
PRODID:-//PUBBLE//agenda//NL
VERSION:2.0
METHOD:PUBLISH
BEGIN:VEVENT
DTSTART:20260306T170000Z
DTEND:20260306T200000Z
DTSTAMP:20260424T072843Z
UID:8c1261d2-e34a-400b-9cb4-a398be4cd502
CREATED:20260424T072843Z
NAME:Natuurpresentatie – Spitsbergen hetkontakt.nl
X-WR-CALNAME:Natuurpresentatie – Spitsbergen
X-ALT-DESC;FMTTYPE=text/html:<a href='/alblasserwaard/agenda/2026/3/6/natuurpresentatie-spitsbergen-455236'>/alblasserwaard/agenda/2026/3/6/natuurpresentatie-spitsbergen-455236</a> || <p>Op D.V. vrijdag 6 maart wordt in de Maranathakerk te Nw-Lekkerland een natuurpresentatie gehouden over de eilandengroep Spitsbergen.De presentatie wordt verzorgd door natuurfotograaf Maas van de Ruitenbeek. Aan de hand van schitterende foto’s en filmbeelden neemt hij u mee naar dit bijzondere gebied.</p><p>De avond wordt georganiseerd door Stichting Woord en Daad West-Alblasserwaard. Er zal een collecte worden gehouden; de opbrengst is bestemd voor de actie ‘Strijd tegen kindslavernij’.&nbsp;</p><p>Aanvang: 19.30 uur</p><p>Toegangsprijs: •€ 3,50 t/m 14 jaar</p><p>&nbsp;•€ 5,00 vanaf 15 jaar</p><p>De toegangsprijs is incl koffie, thee of frisdrank.&nbsp;<a href="//www.maasvanderuitenbeek.nl">www.maasvanderuitenbeek.nl</a></p>
DESCRIPTION:<a href='/alblasserwaard/agenda/2026/3/6/natuurpresentatie-spitsbergen-455236'>/alblasserwaard/agenda/2026/3/6/natuurpresentatie-spitsbergen-455236</a> || <p>Op D.V. vrijdag 6 maart wordt in de Maranathakerk te Nw-Lekkerland een natuurpresentatie gehouden over de eilandengroep Spitsbergen.De presentatie wordt verzorgd door natuurfotograaf Maas van de Ruitenbeek. Aan de hand van schitterende foto’s en filmbeelden neemt hij u mee naar dit bijzondere gebied.</p><p>De avond wordt georganiseerd door Stichting Woord en Daad West-Alblasserwaard. Er zal een collecte worden gehouden; de opbrengst is bestemd voor de actie ‘Strijd tegen kindslavernij’.&nbsp;</p><p>Aanvang: 19.30 uur</p><p>Toegangsprijs: •€ 3,50 t/m 14 jaar</p><p>&nbsp;•€ 5,00 vanaf 15 jaar</p><p>De toegangsprijs is incl koffie, thee of frisdrank.&nbsp;<a href="//www.maasvanderuitenbeek.nl">www.maasvanderuitenbeek.nl</a></p>
LAST-MODIFIED:20260424T072843Z
LOCATION: Hervormde gemeente Maranatha | Mattenbies 1 Nieuw-Lekkerland
SEQUENCE:0
STATUS:CONFIRMED
SUMMARY:Natuurpresentatie – Spitsbergen
TRANSP:OPAQUE
END:VEVENT
END:VCALENDAR
