BEGIN:VCALENDAR
PRODID:-//PUBBLE//agenda//NL
VERSION:2.0
METHOD:PUBLISH
BEGIN:VEVENT
DTSTART:20260507T180000Z
DTEND:20260507T203000Z
DTSTAMP:20260422T075130Z
UID:e6d0c484-e949-42d6-882f-f637ca4ab27e
CREATED:20260422T075130Z
NAME:Film | Nuremberg hetkontakt.nl
X-WR-CALNAME:Film | Nuremberg
X-ALT-DESC;FMTTYPE=text/html:<a href='/krimpenerwaard/agenda/2026/5/7/film-nuremberg-454576'>/krimpenerwaard/agenda/2026/5/7/film-nuremberg-454576</a> || <p>Het jaar 1945, kort na de Tweede Wereldoorlog. De Amerikaanse psychiater Douglas Kelley moet in Neurenberg, West-Duitsland bepalen of nazi-gevangenen geschikt zijn om terecht te staan voor hun oorlogsmisdaden. Tijdens zijn werk raakt Kelley verzeild in een strijd met Adolf Hitlers rechterhand, Hermann Göring.&nbsp;Leeftijd: 12+. Tickets: <a href="https://www.theaterdetuyter.nl" target="_blank">www.theaterdetuyter.nl</a>.</p>
DESCRIPTION:<a href='/krimpenerwaard/agenda/2026/5/7/film-nuremberg-454576'>/krimpenerwaard/agenda/2026/5/7/film-nuremberg-454576</a> || <p>Het jaar 1945, kort na de Tweede Wereldoorlog. De Amerikaanse psychiater Douglas Kelley moet in Neurenberg, West-Duitsland bepalen of nazi-gevangenen geschikt zijn om terecht te staan voor hun oorlogsmisdaden. Tijdens zijn werk raakt Kelley verzeild in een strijd met Adolf Hitlers rechterhand, Hermann Göring.&nbsp;Leeftijd: 12+. Tickets: <a href="https://www.theaterdetuyter.nl" target="_blank">www.theaterdetuyter.nl</a>.</p>
LAST-MODIFIED:20260422T075130Z
LOCATION: Theater De Tuyter | Nachtegaalstraat 8 Krimpen a/d IJssel
SEQUENCE:0
STATUS:CONFIRMED
SUMMARY:Film | Nuremberg
TRANSP:OPAQUE
END:VEVENT
END:VCALENDAR
