BEGIN:VCALENDAR
PRODID:-//PUBBLE//agenda//NL
VERSION:2.0
METHOD:PUBLISH
BEGIN:VEVENT
DTSTART:20260429T120000Z
DTEND:20260429T133000Z
DTSTAMP:20260422T075128Z
UID:c6f892d4-d88e-4f14-a0fc-0d6e619dcbe4
CREATED:20260422T075128Z
NAME:Vakantiebios | Miss Moxy  hetkontakt.nl
X-WR-CALNAME:Vakantiebios | Miss Moxy 
X-ALT-DESC;FMTTYPE=text/html:<a href='/krimpenerwaard/agenda/2026/4/29/vakantiebios-miss-moxy-454565'>/krimpenerwaard/agenda/2026/4/29/vakantiebios-miss-moxy-454565</a> || <p>Als de naïeve maar verwaande stadskat Miss Moxy in Zuid-Frankrijk wordt gekidnapt door een ambitieuze pensionhoudster die met haar een dierentalentshow wil winnen, slaagt ze erin met een list te ontsnappen. Dapper begint ze aan de lange reis naar huis maar om daar te komen, moet ze samenwerken met de meest verachtelijke wezens die een kat zich kan voorstellen: een hond en een vogel. Onderweg beleven ze spannende avonturen en ontdekken ze wat ware vriendschap betekent. Leeftijd: 6+. De film is Nederlands gesproken. Tickets: <a href="https://www.theaterdetuyter.nl" target="_blank">www.theaterdetuyter.nl</a>.</p>
DESCRIPTION:<a href='/krimpenerwaard/agenda/2026/4/29/vakantiebios-miss-moxy-454565'>/krimpenerwaard/agenda/2026/4/29/vakantiebios-miss-moxy-454565</a> || <p>Als de naïeve maar verwaande stadskat Miss Moxy in Zuid-Frankrijk wordt gekidnapt door een ambitieuze pensionhoudster die met haar een dierentalentshow wil winnen, slaagt ze erin met een list te ontsnappen. Dapper begint ze aan de lange reis naar huis maar om daar te komen, moet ze samenwerken met de meest verachtelijke wezens die een kat zich kan voorstellen: een hond en een vogel. Onderweg beleven ze spannende avonturen en ontdekken ze wat ware vriendschap betekent. Leeftijd: 6+. De film is Nederlands gesproken. Tickets: <a href="https://www.theaterdetuyter.nl" target="_blank">www.theaterdetuyter.nl</a>.</p>
LAST-MODIFIED:20260422T075128Z
LOCATION: Theater De Tuyter | Nachtegaalstraat 8 Krimpen a/d IJssel
SEQUENCE:0
STATUS:CONFIRMED
SUMMARY:Vakantiebios | Miss Moxy 
TRANSP:OPAQUE
END:VEVENT
END:VCALENDAR
